Workbook

Sheet Форма 1
AH1: Приложение 1
A3: Не допускается предоставление отчета в адрес Минпросвещения России образовательными организациями. Данные подаются региональным органом исполнительной власти по всем ОО СПО, расположенным на территории субъекта Российской Федерации, вне зависимости от ведомственной принадлежности Ячейки не объединяются. Ячейки с числовыми данными, одновременно содержащими текст или другие числовые значения, учитываться не будут. Формат ячеек с числовыми данными - только "Числовой" Графы "ПРОВЕРКА" не удаляются и не редактируются Формулы логического контроля: стр. 03 < стр. 02 стр. 02 и стр. 04 и стр. 05 < стр. 01 гр. 09 и гр. 10 < гр. 08 сумма по видам деятельности (кроме граф "в том числе") равна суммарному выпуску в 2021 году (гр. 07= гр.08 + сумма(с гр.11 по гр.32))
A5: Федеральный округ (указывается в каждой строке) | B5: Субъект Российской Федерации (указывается в каждой строке)) | C5: Код профессии, специальности в формате хх.хх.хх в соответствии с приказом Минобрнауки России от 29 октября 2013 г. № 1199 (выбрать из раскрывающегося списка, проверить графу 04) | D5: Наименование профессии, специальности (добавляется автоматически при корректном вводе кода) | E5: Номер строки | F5: Наименование показателей (категория выпускников) (редактирование наименования не допускается) | G5: Суммарный выпуск в 2023 год (человек) | H5: Распределение выпускников по каналам занятости и иным видам деятельности, человек (каждый выпускник учитывается один раз. Единица измерения - человек) | AG5: Принимаемые меры по содействию занятости (тезисно - вид меры, охват выпускников мерой) | AH5: ПРОВЕРКА (сумма по всем категориям выпускников, распределенных по видам занятости, должна равняться сумме выпускников всего)
H6: Занятые выпускники | N6: Потенциальная занятость (не относится к занятости по итогам обучения, требует дополнительных мер) | Q6: Зона риска (требует оперативных мер и адресной работы) | U6: Прочее, редкие жизненные обстоятельства | AA6: Профессиональные намерения выпускников, ожидаемый эффект от работы по содействию занятости (на ближайшую перспективу - порядка 3-х месяцев)
H7: Трудоустроены (по трудовому договору, договору ГПХ в соответствии с трудовым законодательством, законодательством об обязательном пенсионном страховании) | I7: В том числе (из трудоустроенных): в соответствии с освоенной профессией, специальностью (исходя из осуществляемой трудовой функции) | J7: В том числе (из трудоустроенных): работают на протяжении не менее 4-х месяцев на последнем месте работы | K7: Индиви-дуальные предприни-матели | L7: Самозанятые (перешедшие на специальный налоговый режим - налог на профессио-нальный доход) | M7: Продолжили обучение | N7: Проходят службу в армии по призыву | O7: Проходят службу в армии на контрактной основе, в органах внутренних дел, Государственной противопожарной службе, органах по контролю за оборотом наркотических средств и психотропных веществ, учреждениях и органах уголовно-исполнительной системы, войсках национальной гвардии Российской Федерации, органах принудительного исполнения Российской Федерации* | P7: Находятся в отпуске по уходу за ребенком | Q7: Неформальная занятость (нелегальная) | R7: Зарегистрированы в центрах занятости в качестве безработных (получают пособие по безработице) и не планируют трудоустраиваться | S7: Не имеют мотивации к трудоустройству (кроме зарегистрированных в качестве безработных) и не планируют трудоустраиваться, в том числе по причинам получения иных социальных льгот | T7: Иные причины нахождения под риском нетрудоустройства | U7: Смерть, тяжелое состояние здоровья | V7: Находятся под следствием, отбывают наказание | W7: Переезд за пределы Российской Федерации (кроме переезда в иные регионы - по ним регион должен располагать сведениями) | X7: Не могут трудоустраиваться в связи с уходом за больными родственниками, в связи с иными семейными обстоятельствами | Y7: Выпускники из числа иностранных граждан, которые не имеют СНИЛС | Z7: Иное (в первую очередь выпускники распределяются по всем остальным графам. Данная графа предназначена для очень редких случаев. Если в нее включено более 1 из 200 выпускников - укажите причины в гр. 33 | AA7: будут трудоустроены | AB7: будут осуществлять предприни-мательскую деятельность | AC7: будут самозанятыми | AD7: будут призваны в армию | AE7: будут в армии на контрактной основе, в органах внутренних дел, Государственной противопожарной службе, органах по контролю за оборотом наркотических средств и психотропных веществ, учреждениях и органах уголовно-исполнительной системы, войсках национальной гвардии Российской Федерации, органах принудительного исполнения Российской Федерации* | AF7: будут продолжать обучение
A8: 01 | B8: 02 | C8: 03 | D8: 04 | E8: 05 | F8: 06 | G8: 07 | H8: 08 | I8: 09 | J8: 10 | K8: 11 | L8: 12 | M8: 13 | N8: 14 | O8: 15 | P8: 16 | Q8: 17 | R8: 18 | S8: 19 | T8: 20 | U8: 21 | V8: 22 | W8: 23 | X8: 24 | Y8: 25 | Z8: 26 | AA8: 27 | AB8: 28 | AC8: 29 | AD8: 30 | AE8: 31 | AF8: 32 | AG8: 33 | AH8: 34
A9: ПФО | B9: Чувашская Республика | C9: 08.01.06 | D9: =VLOOKUP(C9,'Коды программ'!$A$2:$B$578,2,FALSE) -> Мастер сухого строительства | E9: 01 | F9: Всего (общая численность выпускников) | AH9: =IF(G9=H9+K9+L9+M9+N9+O9+P9+Q9+R9+S9+T9+U9+V9+W9+X9+Y9+Z9+AA9+AB9+AC9+AD9+AE9+AF9,"проверка пройдена","ВНИМАНИЕ! Сумма по строке не сходится с общей численностью выпускников! Исправьте ошибку в расчетах, пока это сообщение не исчезнет!") -> проверка пройдена
A10: ПФО | B10: Чувашская Республика | C10: 08.01.06 | D10: =VLOOKUP(C10,'Коды программ'!$A$2:$B$578,2,FALSE) -> Мастер сухого строительства | E10: 02 | F10: из общей численности выпускников (из строки 01): лица с ОВЗ | AH10: =IF(G10=H10+K10+L10+M10+N10+O10+P10+Q10+R10+S10+T10+U10+V10+W10+X10+Y10+Z10+AA10+AB10+AC10+AD10+AE10+AF10,"проверка пройдена","ВНИМАНИЕ! Сумма по строке не сходится с общей численностью выпускников! Исправьте ошибку в расчетах, пока это сообщение не исчезнет!") -> проверка пройдена
A11: ПФО | B11: Чувашская Республика | C11: 08.01.06 | D11: =VLOOKUP(C11,'Коды программ'!$A$2:$B$578,2,FALSE) -> Мастер сухого строительства | E11: 03 | F11: из числа лиц с ОВЗ (из строки 02): инвалиды и дети-инвалиды | AH11: =IF(G11=H11+K11+L11+M11+N11+O11+P11+Q11+R11+S11+T11+U11+V11+W11+X11+Y11+Z11+AA11+AB11+AC11+AD11+AE11+AF11,"проверка пройдена","ВНИМАНИЕ! Сумма по строке не сходится с общей численностью выпускников! Исправьте ошибку в расчетах, пока это сообщение не исчезнет!") -> проверка пройдена
A12: ПФО | B12: Чувашская Республика | C12: 08.01.06 | D12: =VLOOKUP(C12,'Коды программ'!$A$2:$B$578,2,FALSE) -> Мастер сухого строительства | E12: 04 | F12: Инвалиды и дети-инвалиды (кроме учтенных в строке 03) | AH12: =IF(G12=H12+K12+L12+M12+N12+O12+P12+Q12+R12+S12+T12+U12+V12+W12+X12+Y12+Z12+AA12+AB12+AC12+AD12+AE12+AF12,"проверка пройдена","ВНИМАНИЕ! Сумма по строке не сходится с общей численностью выпускников! Исправьте ошибку в расчетах, пока это сообщение не исчезнет!") -> проверка пройдена
A13: ПФО | B13: Чувашская Республика | C13: 08.01.06 | D13: =VLOOKUP(C13,'Коды программ'!$A$2:$B$578,2,FALSE) -> Мастер сухого строительства | E13: 05 | F13: Имеют договор о целевом обучении | AH13: =IF(G13=H13+K13+L13+M13+N13+O13+P13+Q13+R13+S13+T13+U13+V13+W13+X13+Y13+Z13+AA13+AB13+AC13+AD13+AE13+AF13,"проверка пройдена","ВНИМАНИЕ! Сумма по строке не сходится с общей численностью выпускников! Исправьте ошибку в расчетах, пока это сообщение не исчезнет!") -> проверка пройдена
A14: ПФО | B14: Чувашская Республика | C14: 08.01.07 | D14: =VLOOKUP(C14,'Коды программ'!$A$2:$B$578,2,FALSE) -> Мастер общестроительных работ | E14: 01 | F14: Всего (общая численность выпускников) | AH14: =IF(G14=H14+K14+L14+M14+N14+O14+P14+Q14+R14+S14+T14+U14+V14+W14+X14+Y14+Z14+AA14+AB14+AC14+AD14+AE14+AF14,"проверка пройдена","ВНИМАНИЕ! Сумма по строке не сходится с общей численностью выпускников! Исправьте ошибку в расчетах, пока это сообщение не исчезнет!") -> проверка пройдена
A15: ПФО | B15: Чувашская Республика | C15: 08.01.07 | D15: =VLOOKUP(C15,'Коды программ'!$A$2:$B$578,2,FALSE) -> Мастер общестроительных работ | E15: 02 | F15: из общей численности выпускников (из строки 01): лица с ОВЗ | AH15: =IF(G15=H15+K15+L15+M15+N15+O15+P15+Q15+R15+S15+T15+U15+V15+W15+X15+Y15+Z15+AA15+AB15+AC15+AD15+AE15+AF15,"проверка пройдена","ВНИМАНИЕ! Сумма по строке не сходится с общей численностью выпускников! Исправьте ошибку в расчетах, пока это сообщение не исчезнет!") -> проверка пройдена
A16: ПФО | B16: Чувашская Республика | C16: 08.01.07 | D16: =VLOOKUP(C16,'Коды программ'!$A$2:$B$578,2,FALSE) -> Мастер общестроительных работ | E16: 03 | F16: из числа лиц с ОВЗ (из строки 02): инвалиды и дети-инвалиды | AH16: =IF(G16=H16+K16+L16+M16+N16+O16+P16+Q16+R16+S16+T16+U16+V16+W16+X16+Y16+Z16+AA16+AB16+AC16+AD16+AE16+AF16,"проверка пройдена","ВНИМАНИЕ! Сумма по строке не сходится с общей численностью выпускников! Исправьте ошибку в расчетах, пока это сообщение не исчезнет!") -> проверка пройдена
A17: ПФО | B17: Чувашская Республика | C17: 08.01.07 | D17: =VLOOKUP(C17,'Коды программ'!$A$2:$B$578,2,FALSE) -> Мастер общестроительных работ | E17: 04 | F17: Инвалиды и дети-инвалиды (кроме учтенных в строке 03) | AH17: =IF(G17=H17+K17+L17+M17+N17+O17+P17+Q17+R17+S17+T17+U17+V17+W17+X17+Y17+Z17+AA17+AB17+AC17+AD17+AE17+AF17,"проверка пройдена","ВНИМАНИЕ! Сумма по строке не сходится с общей численностью выпускников! Исправьте ошибку в расчетах, пока это сообщение не исчезнет!") -> проверка пройдена
A18: ПФО | B18: Чувашская Республика | C18: 08.01.07 | D18: =VLOOKUP(C18,'Коды программ'!$A$2:$B$578,2,FALSE) -> Мастер общестроительных работ | E18: 05 | F18: Имеют договор о целевом обучении | AH18: =IF(G18=H18+K18+L18+M18+N18+O18+P18+Q18+R18+S18+T18+U18+V18+W18+X18+Y18+Z18+AA18+AB18+AC18+AD18+AE18+AF18,"проверка пройдена","ВНИМАНИЕ! Сумма по строке не сходится с общей численностью выпускников! Исправьте ошибку в расчетах, пока это сообщение не исчезнет!") -> проверка пройдена
A19: ПФО | B19: Чувашская Республика | C19: 08.01.14 | D19: =VLOOKUP(C19,'Коды программ'!$A$2:$B$578,2,FALSE) -> Монтажник санитарно-технических, вентиляционных систем и оборудования | E19: 01 | F19: Всего (общая численность выпускников) | AH19: =IF(G19=H19+K19+L19+M19+N19+O19+P19+Q19+R19+S19+T19+U19+V19+W19+X19+Y19+Z19+AA19+AB19+AC19+AD19+AE19+AF19,"проверка пройдена","ВНИМАНИЕ! Сумма по строке не сходится с общей численностью выпускников! Исправьте ошибку в расчетах, пока это сообщение не исчезнет!") -> проверка пройдена
A20: ПФО | B20: Чувашская Республика | C20: 08.01.14 | D20: =VLOOKUP(C20,'Коды программ'!$A$2:$B$578,2,FALSE) -> Монтажник санитарно-технических, вентиляционных систем и оборудования | E20: 02 | F20: из общей численности выпускников (из строки 01): лица с ОВЗ | AH20: =IF(G20=H20+K20+L20+M20+N20+O20+P20+Q20+R20+S20+T20+U20+V20+W20+X20+Y20+Z20+AA20+AB20+AC20+AD20+AE20+AF20,"проверка пройдена","ВНИМАНИЕ! Сумма по строке не сходится с общей численностью выпускников! Исправьте ошибку в расчетах, пока это сообщение не исчезнет!") -> проверка пройдена
... A28: ПФО | B28: Чувашская Республика | C28: 08.01.24 | D28: =VLOOKUP(C28,'Коды программ'!$A$2:$B$578,2,FALSE) -> Мастер столярно-плотничных, паркетных и стекольных работ | E28: 05 | F28: Имеют договор о целевом обучении | AH28: =IF(G28=H28+K28+L28+M28+N28+O28+P28+Q28+R28+S28+T28+U28+V28+W28+X28+Y28+Z28+AA28+AB28+AC28+AD28+AE28+AF28,"проверка пройдена","ВНИМАНИЕ! Сумма по строке не сходится с общей численностью выпускников! Исправьте ошибку в расчетах, пока это сообщение не исчезнет!") -> проверка пройдена
A29: ПФО | B29: Чувашская Республика | C29: 08.01.25 | D29: =VLOOKUP(C29,'Коды программ'!$A$2:$B$578,2,FALSE) -> Мастер отделочных строительных и декоративных работ | E29: 01 | F29: Всего (общая численность выпускников) | G29: 20 | H29: 16 | I29: 7 | J29: 16 | L29: 1 | M29: 1 | N29: 1 | P29: 1 | AD29: 0 | AH29: =IF(G29=H29+K29+L29+M29+N29+O29+P29+Q29+R29+S29+T29+U29+V29+W29+X29+Y29+Z29+AA29+AB29+AC29+AD29+AE29+AF29,"проверка пройдена","ВНИМАНИЕ! Сумма по строке не сходится с общей численностью выпускников! Исправьте ошибку в расчетах, пока это сообщение не исчезнет!") -> проверка пройдена
A30: ПФО | B30: Чувашская Республика | C30: 08.01.25 | D30: =VLOOKUP(C30,'Коды программ'!$A$2:$B$578,2,FALSE) -> Мастер отделочных строительных и декоративных работ | E30: 02 | F30: из общей численности выпускников (из строки 01): лица с ОВЗ | AH30: =IF(G30=H30+K30+L30+M30+N30+O30+P30+Q30+R30+S30+T30+U30+V30+W30+X30+Y30+Z30+AA30+AB30+AC30+AD30+AE30+AF30,"проверка пройдена","ВНИМАНИЕ! Сумма по строке не сходится с общей численностью выпускников! Исправьте ошибку в расчетах, пока это сообщение не исчезнет!") -> проверка пройдена
A31: ПФО | B31: Чувашская Республика | C31: 08.01.25 | D31: =VLOOKUP(C31,'Коды программ'!$A$2:$B$578,2,FALSE) -> Мастер отделочных строительных и декоративных работ | E31: 03 | F31: из числа лиц с ОВЗ (из строки 02): инвалиды и дети-инвалиды | AH31: =IF(G31=H31+K31+L31+M31+N31+O31+P31+Q31+R31+S31+T31+U31+V31+W31+X31+Y31+Z31+AA31+AB31+AC31+AD31+AE31+AF31,"проверка пройдена","ВНИМАНИЕ! Сумма по строке не сходится с общей численностью выпускников! Исправьте ошибку в расчетах, пока это сообщение не исчезнет!") -> проверка пройдена
A32: ПФО | B32: Чувашская Республика | C32: 08.01.25 | D32: =VLOOKUP(C32,'Коды программ'!$A$2:$B$578,2,FALSE) -> Мастер отделочных строительных и декоративных работ | E32: 04 | F32: Инвалиды и дети-инвалиды (кроме учтенных в строке 03) | AH32: =IF(G32=H32+K32+L32+M32+N32+O32+P32+Q32+R32+S32+T32+U32+V32+W32+X32+Y32+Z32+AA32+AB32+AC32+AD32+AE32+AF32,"проверка пройдена","ВНИМАНИЕ! Сумма по строке не сходится с общей численностью выпускников! Исправьте ошибку в расчетах, пока это сообщение не исчезнет!") -> проверка пройдена
A33: ПФО | B33: Чувашская Республика | C33: 08.01.25 | D33: =VLOOKUP(C33,'Коды программ'!$A$2:$B$578,2,FALSE) -> Мастер отделочных строительных и декоративных работ | E33: 05 | F33: Имеют договор о целевом обучении | AH33: =IF(G33=H33+K33+L33+M33+N33+O33+P33+Q33+R33+S33+T33+U33+V33+W33+X33+Y33+Z33+AA33+AB33+AC33+AD33+AE33+AF33,"проверка пройдена","ВНИМАНИЕ! Сумма по строке не сходится с общей численностью выпускников! Исправьте ошибку в расчетах, пока это сообщение не исчезнет!") -> проверка пройдена
A34: ПФО | B34: Чувашская Республика | C34: 08.01.26 | D34: Мастер по ремонту и обслуживанию инженерных систем жилищно-коммунального хозяйства | E34: 01 | F34: Всего (общая численность выпускников) | G34: 24 | H34: 17 | I34: 0 | J34: 17 | K34: 1 | L34: 3 | M34: 0 | N34: 1 | O34: 0 | P34: 0 | Q34: 2 | R34: 0 | S34: 0 | T34: 0 | U34: 0 | V34: 0 | W34: 0 | X34: 0 | Y34: 0 | Z34: 0 | AA34: 0 | AB34: 0 | AC34: 0 | AD34: 0 | AE34: 0 | AF34: 0 | AG34: 0 | AH34: =IF(G34=H34+K34+L34+M34+N34+O34+P34+Q34+R34+S34+T34+U34+V34+W34+X34+Y34+Z34+AA34+AB34+AC34+AD34+AE34+AF34,"проверка пройдена","ВНИМАНИЕ! Сумма по строке не сходится с общей численностью выпускников! Исправьте ошибку в расчетах, пока это сообщение не исчезнет!") -> проверка пройдена
A35: ПФО | B35: Чувашская Республика | C35: 08.01.26 | D35: Мастер по ремонту и обслуживанию инженерных систем жилищно-коммунального хозяйства | E35: 02 | F35: из общей численности выпускников (из строки 01): лица с ОВЗ | AH35: =IF(G35=H35+K35+L35+M35+N35+O35+P35+Q35+R35+S35+T35+U35+V35+W35+X35+Y35+Z35+AA35+AB35+AC35+AD35+AE35+AF35,"проверка пройдена","ВНИМАНИЕ! Сумма по строке не сходится с общей численностью выпускников! Исправьте ошибку в расчетах, пока это сообщение не исчезнет!") -> проверка пройдена
A36: ПФО | B36: Чувашская Республика | C36: 08.01.26 | D36: Мастер по ремонту и обслуживанию инженерных систем жилищно-коммунального хозяйства | E36: 03 | F36: из числа лиц с ОВЗ (из строки 02): инвалиды и дети-инвалиды | AH36: =IF(G36=H36+K36+L36+M36+N36+O36+P36+Q36+R36+S36+T36+U36+V36+W36+X36+Y36+Z36+AA36+AB36+AC36+AD36+AE36+AF36,"проверка пройдена","ВНИМАНИЕ! Сумма по строке не сходится с общей численностью выпускников! Исправьте ошибку в расчетах, пока это сообщение не исчезнет!") -> проверка пройдена
A37: ПФО | B37: Чувашская Республика | C37: 08.01.26 | D37: Мастер по ремонту и обслуживанию инженерных систем жилищно-коммунального хозяйства | E37: 04 | F37: Инвалиды и дети-инвалиды (кроме учтенных в строке 03) | AH37: =IF(G37=H37+K37+L37+M37+N37+O37+P37+Q37+R37+S37+T37+U37+V37+W37+X37+Y37+Z37+AA37+AB37+AC37+AD37+AE37+AF37,"проверка пройдена","ВНИМАНИЕ! Сумма по строке не сходится с общей численностью выпускников! Исправьте ошибку в расчетах, пока это сообщение не исчезнет!") -> проверка пройдена
A38: ПФО | B38: Чувашская Республика | C38: 08.01.26 | D38: Мастер по ремонту и обслуживанию инженерных систем жилищно-коммунального хозяйства | E38: 05 | F38: Имеют договор о целевом обучении | AH38: =IF(G38=H38+K38+L38+M38+N38+O38+P38+Q38+R38+S38+T38+U38+V38+W38+X38+Y38+Z38+AA38+AB38+AC38+AD38+AE38+AF38,"проверка пройдена","ВНИМАНИЕ! Сумма по строке не сходится с общей численностью выпускников! Исправьте ошибку в расчетах, пока это сообщение не исчезнет!") -> проверка пройдена
A39: ПФО | B39: Чувашская Республика | C39: 08.02.01 | D39: =VLOOKUP(C39,'Коды программ'!$A$2:$B$578,2,FALSE) -> Строительство и эксплуатация зданий и сооружений | E39: 01 | F39: Всего (общая численность выпускников) | G39: 22 | H39: 18 | I39: 8 | J39: 9 | R39: 1 | AA39: 3 | AH39: =IF(G39=H39+K39+L39+M39+N39+O39+P39+Q39+R39+S39+T39+U39+V39+W39+X39+Y39+Z39+AA39+AB39+AC39+AD39+AE39+AF39,"проверка пройдена","ВНИМАНИЕ! Сумма по строке не сходится с общей численностью выпускников! Исправьте ошибку в расчетах, пока это сообщение не исчезнет!") -> проверка пройдена
A40: ПФО | B40: Чувашская Республика | C40: 08.02.01 | D40: =VLOOKUP(C40,'Коды программ'!$A$2:$B$578,2,FALSE) -> Строительство и эксплуатация зданий и сооружений | E40: 02 | F40: из общей численности выпускников (из строки 01): лица с ОВЗ | AH40: =IF(G40=H40+K40+L40+M40+N40+O40+P40+Q40+R40+S40+T40+U40+V40+W40+X40+Y40+Z40+AA40+AB40+AC40+AD40+AE40+AF40,"проверка пройдена","ВНИМАНИЕ! Сумма по строке не сходится с общей численностью выпускников! Исправьте ошибку в расчетах, пока это сообщение не исчезнет!") -> проверка пройдена
A41: ПФО | B41: Чувашская Республика | C41: 08.02.01 | D41: =VLOOKUP(C41,'Коды программ'!$A$2:$B$578,2,FALSE) -> Строительство и эксплуатация зданий и сооружений | E41: 03 | F41: из числа лиц с ОВЗ (из строки 02): инвалиды и дети-инвалиды | AH41: =IF(G41=H41+K41+L41+M41+N41+O41+P41+Q41+R41+S41+T41+U41+V41+W41+X41+Y41+Z41+AA41+AB41+AC41+AD41+AE41+AF41,"проверка пройдена","ВНИМАНИЕ! Сумма по строке не сходится с общей численностью выпускников! Исправьте ошибку в расчетах, пока это сообщение не исчезнет!") -> проверка пройдена
A42: ПФО | B42: Чувашская Республика | C42: 08.02.01 | D42: =VLOOKUP(C42,'Коды программ'!$A$2:$B$578,2,FALSE) -> Строительство и эксплуатация зданий и сооружений | E42: 04 | F42: Инвалиды и дети-инвалиды (кроме учтенных в строке 03) | AH42: =IF(G42=H42+K42+L42+M42+N42+O42+P42+Q42+R42+S42+T42+U42+V42+W42+X42+Y42+Z42+AA42+AB42+AC42+AD42+AE42+AF42,"проверка пройдена","ВНИМАНИЕ! Сумма по строке не сходится с общей численностью выпускников! Исправьте ошибку в расчетах, пока это сообщение не исчезнет!") -> проверка пройдена
A43: ПФО | B43: Чувашская Республика | C43: 08.02.01 | D43: =VLOOKUP(C43,'Коды программ'!$A$2:$B$578,2,FALSE) -> Строительство и эксплуатация зданий и сооружений | E43: 05 | F43: Имеют договор о целевом обучении | AH43: =IF(G43=H43+K43+L43+M43+N43+O43+P43+Q43+R43+S43+T43+U43+V43+W43+X43+Y43+Z43+AA43+AB43+AC43+AD43+AE43+AF43,"проверка пройдена","ВНИМАНИЕ! Сумма по строке не сходится с общей численностью выпускников! Исправьте ошибку в расчетах, пока это сообщение не исчезнет!") -> проверка пройдена
A44: ПФО | B44: Чувашская Республика | C44: 08.02.05 | D44: Строительство и эксплуатация автомобильных дорог и аэродромов | E44: 01 | F44: Всего (общая численность выпускников) | G44: 22 | H44: 18 | I44: 5 | J44: 15 | N44: 3 | R44: 1 | AH44: =IF(G44=H44+K44+L44+M44+N44+O44+P44+Q44+R44+S44+T44+U44+V44+W44+X44+Y44+Z44+AA44+AB44+AC44+AD44+AE44+AF44,"проверка пройдена","ВНИМАНИЕ! Сумма по строке не сходится с общей численностью выпускников! Исправьте ошибку в расчетах, пока это сообщение не исчезнет!") -> проверка пройдена
A45: ПФО | B45: Чувашская Республика | C45: 08.02.05 | D45: Строительство и эксплуатация автомобильных дорог и аэродромов | E45: 02 | F45: из общей численности выпускников (из строки 01): лица с ОВЗ | AH45: =IF(G45=H45+K45+L45+M45+N45+O45+P45+Q45+R45+S45+T45+U45+V45+W45+X45+Y45+Z45+AA45+AB45+AC45+AD45+AE45+AF45,"проверка пройдена","ВНИМАНИЕ! Сумма по строке не сходится с общей численностью выпускников! Исправьте ошибку в расчетах, пока это сообщение не исчезнет!") -> проверка пройдена
A46: ПФО | B46: Чувашская Республика | C46: 08.02.05 | D46: Строительство и эксплуатация автомобильных дорог и аэродромов | E46: 03 | F46: из числа лиц с ОВЗ (из строки 02): инвалиды и дети-инвалиды | AH46: =IF(G46=H46+K46+L46+M46+N46+O46+P46+Q46+R46+S46+T46+U46+V46+W46+X46+Y46+Z46+AA46+AB46+AC46+AD46+AE46+AF46,"проверка пройдена","ВНИМАНИЕ! Сумма по строке не сходится с общей численностью выпускников! Исправьте ошибку в расчетах, пока это сообщение не исчезнет!") -> проверка пройдена
A47: ПФО | B47: Чувашская Республика | C47: 08.02.05 | D47: Строительство и эксплуатация автомобильных дорог и аэродромов | E47: 04 | F47: Инвалиды и дети-инвалиды (кроме учтенных в строке 03) | AH47: =IF(G47=H47+K47+L47+M47+N47+O47+P47+Q47+R47+S47+T47+U47+V47+W47+X47+Y47+Z47+AA47+AB47+AC47+AD47+AE47+AF47,"проверка пройдена","ВНИМАНИЕ! Сумма по строке не сходится с общей численностью выпускников! Исправьте ошибку в расчетах, пока это сообщение не исчезнет!") -> проверка пройдена
A48: ПФО | B48: Чувашская Республика | C48: 08.02.05 | D48: Строительство и эксплуатация автомобильных дорог и аэродромов | E48: 05 | F48: Имеют договор о целевом обучении | AH48: =IF(G48=H48+K48+L48+M48+N48+O48+P48+Q48+R48+S48+T48+U48+V48+W48+X48+Y48+Z48+AA48+AB48+AC48+AD48+AE48+AF48,"проверка пройдена","ВНИМАНИЕ! Сумма по строке не сходится с общей численностью выпускников! Исправьте ошибку в расчетах, пока это сообщение не исчезнет!") -> проверка пройдена
A49: ПФО | B49: Чувашская Республика | C49: 08.02.07 | D49: Монтаж и эксплуатация внутренних сантехнических устройств, кондиционирования воздуха и вентиляции | E49: 01 | F49: Всего (общая численность выпускников) | AH49: =IF(G49=H49+K49+L49+M49+N49+O49+P49+Q49+R49+S49+T49+U49+V49+W49+X49+Y49+Z49+AA49+AB49+AC49+AD49+AE49+AF49,"проверка пройдена","ВНИМАНИЕ! Сумма по строке не сходится с общей численностью выпускников! Исправьте ошибку в расчетах, пока это сообщение не исчезнет!") -> проверка пройдена
A50: ПФО | B50: Чувашская Республика | C50: 08.02.07 | D50: Монтаж и эксплуатация внутренних сантехнических устройств, кондиционирования воздуха и вентиляции | E50: 02 | F50: из общей численности выпускников (из строки 01): лица с ОВЗ | AH50: =IF(G50=H50+K50+L50+M50+N50+O50+P50+Q50+R50+S50+T50+U50+V50+W50+X50+Y50+Z50+AA50+AB50+AC50+AD50+AE50+AF50,"проверка пройдена","ВНИМАНИЕ! Сумма по строке не сходится с общей численностью выпускников! Исправьте ошибку в расчетах, пока это сообщение не исчезнет!") -> проверка пройдена
A51: ПФО | B51: Чувашская Республика | C51: 08.02.07 | D51: Монтаж и эксплуатация внутренних сантехнических устройств, кондиционирования воздуха и вентиляции | E51: 03 | F51: из числа лиц с ОВЗ (из строки 02): инвалиды и дети-инвалиды | AH51: =IF(G51=H51+K51+L51+M51+N51+O51+P51+Q51+R51+S51+T51+U51+V51+W51+X51+Y51+Z51+AA51+AB51+AC51+AD51+AE51+AF51,"проверка пройдена","ВНИМАНИЕ! Сумма по строке не сходится с общей численностью выпускников! Исправьте ошибку в расчетах, пока это сообщение не исчезнет!") -> проверка пройдена
A52: ПФО | B52: Чувашская Республика | C52: 08.02.07 | D52: Монтаж и эксплуатация внутренних сантехнических устройств, кондиционирования воздуха и вентиляции | E52: 04 | F52: Инвалиды и дети-инвалиды (кроме учтенных в строке 03) | AH52: =IF(G52=H52+K52+L52+M52+N52+O52+P52+Q52+R52+S52+T52+U52+V52+W52+X52+Y52+Z52+AA52+AB52+AC52+AD52+AE52+AF52,"проверка пройдена","ВНИМАНИЕ! Сумма по строке не сходится с общей численностью выпускников! Исправьте ошибку в расчетах, пока это сообщение не исчезнет!") -> проверка пройдена
A53: ПФО | B53: Чувашская Республика | C53: 08.02.07 | D53: Монтаж и эксплуатация внутренних сантехнических устройств, кондиционирования воздуха и вентиляции | E53: 05 | F53: Имеют договор о целевом обучении | AH53: =IF(G53=H53+K53+L53+M53+N53+O53+P53+Q53+R53+S53+T53+U53+V53+W53+X53+Y53+Z53+AA53+AB53+AC53+AD53+AE53+AF53,"проверка пройдена","ВНИМАНИЕ! Сумма по строке не сходится с общей численностью выпускников! Исправьте ошибку в расчетах, пока это сообщение не исчезнет!") -> проверка пройдена
A54: ПФО | B54: Чувашская Республика | C54: 08.02.09 | D54: Монтаж, наладка и эксплуатация электрооборудования промышленных и гражданских зданий | E54: 01 | F54: Всего (общая численность выпускников) | AH54: =IF(G54=H54+K54+L54+M54+N54+O54+P54+Q54+R54+S54+T54+U54+V54+W54+X54+Y54+Z54+AA54+AB54+AC54+AD54+AE54+AF54,"проверка пройдена","ВНИМАНИЕ! Сумма по строке не сходится с общей численностью выпускников! Исправьте ошибку в расчетах, пока это сообщение не исчезнет!") -> проверка пройдена
A55: ПФО | B55: Чувашская Республика | C55: 08.02.09 | D55: Монтаж, наладка и эксплуатация электрооборудования промышленных и гражданских зданий | E55: 02 | F55: из общей численности выпускников (из строки 01): лица с ОВЗ | AH55: =IF(G55=H55+K55+L55+M55+N55+O55+P55+Q55+R55+S55+T55+U55+V55+W55+X55+Y55+Z55+AA55+AB55+AC55+AD55+AE55+AF55,"проверка пройдена","ВНИМАНИЕ! Сумма по строке не сходится с общей численностью выпускников! Исправьте ошибку в расчетах, пока это сообщение не исчезнет!") -> проверка пройдена
A56: ПФО | B56: Чувашская Республика | C56: 08.02.09 | D56: Монтаж, наладка и эксплуатация электрооборудования промышленных и гражданских зданий | E56: 03 | F56: из числа лиц с ОВЗ (из строки 02): инвалиды и дети-инвалиды | AH56: =IF(G56=H56+K56+L56+M56+N56+O56+P56+Q56+R56+S56+T56+U56+V56+W56+X56+Y56+Z56+AA56+AB56+AC56+AD56+AE56+AF56,"проверка пройдена","ВНИМАНИЕ! Сумма по строке не сходится с общей численностью выпускников! Исправьте ошибку в расчетах, пока это сообщение не исчезнет!") -> проверка пройдена
... A73: ПФО | B73: Чувашская Республика | C73: 09.02.01 | D73: Компьютерные системы и комплексы | E73: 05 | F73: Имеют договор о целевом обучении | AH73: =IF(G73=H73+K73+L73+M73+N73+O73+P73+Q73+R73+S73+T73+U73+V73+W73+X73+Y73+Z73+AA73+AB73+AC73+AD73+AE73+AF73,"проверка пройдена","ВНИМАНИЕ! Сумма по строке не сходится с общей численностью выпускников! Исправьте ошибку в расчетах, пока это сообщение не исчезнет!") -> проверка пройдена
A74: ПФО | B74: Чувашская Республика | C74: 09.02.03 | D74: =VLOOKUP(C74,'Коды программ'!$A$2:$B$578,2,FALSE) -> Программирование в компьютерных системах | E74: 01 | F74: Всего (общая численность выпускников) | AH74: =IF(G74=H74+K74+L74+M74+N74+O74+P74+Q74+R74+S74+T74+U74+V74+W74+X74+Y74+Z74+AA74+AB74+AC74+AD74+AE74+AF74,"проверка пройдена","ВНИМАНИЕ! Сумма по строке не сходится с общей численностью выпускников! Исправьте ошибку в расчетах, пока это сообщение не исчезнет!") -> проверка пройдена
A75: ПФО | B75: Чувашская Республика | C75: 09.02.03 | D75: =VLOOKUP(C75,'Коды программ'!$A$2:$B$578,2,FALSE) -> Программирование в компьютерных системах | E75: 02 | F75: из общей численности выпускников (из строки 01): лица с ОВЗ | AH75: =IF(G75=H75+K75+L75+M75+N75+O75+P75+Q75+R75+S75+T75+U75+V75+W75+X75+Y75+Z75+AA75+AB75+AC75+AD75+AE75+AF75,"проверка пройдена","ВНИМАНИЕ! Сумма по строке не сходится с общей численностью выпускников! Исправьте ошибку в расчетах, пока это сообщение не исчезнет!") -> проверка пройдена
A76: ПФО | B76: Чувашская Республика | C76: 09.02.03 | D76: =VLOOKUP(C76,'Коды программ'!$A$2:$B$578,2,FALSE) -> Программирование в компьютерных системах | E76: 03 | F76: из числа лиц с ОВЗ (из строки 02): инвалиды и дети-инвалиды | AH76: =IF(G76=H76+K76+L76+M76+N76+O76+P76+Q76+R76+S76+T76+U76+V76+W76+X76+Y76+Z76+AA76+AB76+AC76+AD76+AE76+AF76,"проверка пройдена","ВНИМАНИЕ! Сумма по строке не сходится с общей численностью выпускников! Исправьте ошибку в расчетах, пока это сообщение не исчезнет!") -> проверка пройдена
A77: ПФО | B77: Чувашская Республика | C77: 09.02.03 | D77: =VLOOKUP(C77,'Коды программ'!$A$2:$B$578,2,FALSE) -> Программирование в компьютерных системах | E77: 04 | F77: Инвалиды и дети-инвалиды (кроме учтенных в строке 03) | AH77: =IF(G77=H77+K77+L77+M77+N77+O77+P77+Q77+R77+S77+T77+U77+V77+W77+X77+Y77+Z77+AA77+AB77+AC77+AD77+AE77+AF77,"проверка пройдена","ВНИМАНИЕ! Сумма по строке не сходится с общей численностью выпускников! Исправьте ошибку в расчетах, пока это сообщение не исчезнет!") -> проверка пройдена
A78: ПФО | B78: Чувашская Республика | C78: 09.02.03 | D78: =VLOOKUP(C78,'Коды программ'!$A$2:$B$578,2,FALSE) -> Программирование в компьютерных системах | E78: 05 | F78: Имеют договор о целевом обучении | AH78: =IF(G78=H78+K78+L78+M78+N78+O78+P78+Q78+R78+S78+T78+U78+V78+W78+X78+Y78+Z78+AA78+AB78+AC78+AD78+AE78+AF78,"проверка пройдена","ВНИМАНИЕ! Сумма по строке не сходится с общей численностью выпускников! Исправьте ошибку в расчетах, пока это сообщение не исчезнет!") -> проверка пройдена
A79: ПФО | B79: Чувашская Республика | C79: 09.02.05 | D79: Прикладная информатика (по отраслям) | E79: 01 | F79: Всего (общая численность выпускников) | AH79: =IF(G79=H79+K79+L79+M79+N79+O79+P79+Q79+R79+S79+T79+U79+V79+W79+X79+Y79+Z79+AA79+AB79+AC79+AD79+AE79+AF79,"проверка пройдена","ВНИМАНИЕ! Сумма по строке не сходится с общей численностью выпускников! Исправьте ошибку в расчетах, пока это сообщение не исчезнет!") -> проверка пройдена
A80: ПФО | B80: Чувашская Республика | C80: 09.02.05 | D80: Прикладная информатика (по отраслям) | E80: 02 | F80: из общей численности выпускников (из строки 01): лица с ОВЗ | AH80: =IF(G80=H80+K80+L80+M80+N80+O80+P80+Q80+R80+S80+T80+U80+V80+W80+X80+Y80+Z80+AA80+AB80+AC80+AD80+AE80+AF80,"проверка пройдена","ВНИМАНИЕ! Сумма по строке не сходится с общей численностью выпускников! Исправьте ошибку в расчетах, пока это сообщение не исчезнет!") -> проверка пройдена
A81: ПФО | B81: Чувашская Республика | C81: 09.02.05 | D81: Прикладная информатика (по отраслям) | E81: 03 | F81: из числа лиц с ОВЗ (из строки 02): инвалиды и дети-инвалиды | AH81: =IF(G81=H81+K81+L81+M81+N81+O81+P81+Q81+R81+S81+T81+U81+V81+W81+X81+Y81+Z81+AA81+AB81+AC81+AD81+AE81+AF81,"проверка пройдена","ВНИМАНИЕ! Сумма по строке не сходится с общей численностью выпускников! Исправьте ошибку в расчетах, пока это сообщение не исчезнет!") -> проверка пройдена
A82: ПФО | B82: Чувашская Республика | C82: 09.02.05 | D82: Прикладная информатика (по отраслям) | E82: 04 | F82: Инвалиды и дети-инвалиды (кроме учтенных в строке 03) | AH82: =IF(G82=H82+K82+L82+M82+N82+O82+P82+Q82+R82+S82+T82+U82+V82+W82+X82+Y82+Z82+AA82+AB82+AC82+AD82+AE82+AF82,"проверка пройдена","ВНИМАНИЕ! Сумма по строке не сходится с общей численностью выпускников! Исправьте ошибку в расчетах, пока это сообщение не исчезнет!") -> проверка пройдена
A83: ПФО | B83: Чувашская Республика | C83: 09.02.05 | D83: Прикладная информатика (по отраслям) | E83: 05 | F83: Имеют договор о целевом обучении | AH83: =IF(G83=H83+K83+L83+M83+N83+O83+P83+Q83+R83+S83+T83+U83+V83+W83+X83+Y83+Z83+AA83+AB83+AC83+AD83+AE83+AF83,"проверка пройдена","ВНИМАНИЕ! Сумма по строке не сходится с общей численностью выпускников! Исправьте ошибку в расчетах, пока это сообщение не исчезнет!") -> проверка пройдена
A84: ПФО | B84: Чувашская Республика | C84: 09.02.06 | D84: Сетевое и системное администрирование | E84: 01 | F84: Всего (общая численность выпускников) | AH84: =IF(G84=H84+K84+L84+M84+N84+O84+P84+Q84+R84+S84+T84+U84+V84+W84+X84+Y84+Z84+AA84+AB84+AC84+AD84+AE84+AF84,"проверка пройдена","ВНИМАНИЕ! Сумма по строке не сходится с общей численностью выпускников! Исправьте ошибку в расчетах, пока это сообщение не исчезнет!") -> проверка пройдена
A85: ПФО | B85: Чувашская Республика | C85: 09.02.06 | D85: Сетевое и системное администрирование | E85: 02 | F85: из общей численности выпускников (из строки 01): лица с ОВЗ | AH85: =IF(G85=H85+K85+L85+M85+N85+O85+P85+Q85+R85+S85+T85+U85+V85+W85+X85+Y85+Z85+AA85+AB85+AC85+AD85+AE85+AF85,"проверка пройдена","ВНИМАНИЕ! Сумма по строке не сходится с общей численностью выпускников! Исправьте ошибку в расчетах, пока это сообщение не исчезнет!") -> проверка пройдена
A86: ПФО | B86: Чувашская Республика | C86: 09.02.06 | D86: Сетевое и системное администрирование | E86: 03 | F86: из числа лиц с ОВЗ (из строки 02): инвалиды и дети-инвалиды | AH86: =IF(G86=H86+K86+L86+M86+N86+O86+P86+Q86+R86+S86+T86+U86+V86+W86+X86+Y86+Z86+AA86+AB86+AC86+AD86+AE86+AF86,"проверка пройдена","ВНИМАНИЕ! Сумма по строке не сходится с общей численностью выпускников! Исправьте ошибку в расчетах, пока это сообщение не исчезнет!") -> проверка пройдена
A87: ПФО | B87: Чувашская Республика | C87: 09.02.06 | D87: Сетевое и системное администрирование | E87: 04 | F87: Инвалиды и дети-инвалиды (кроме учтенных в строке 03) | AH87: =IF(G87=H87+K87+L87+M87+N87+O87+P87+Q87+R87+S87+T87+U87+V87+W87+X87+Y87+Z87+AA87+AB87+AC87+AD87+AE87+AF87,"проверка пройдена","ВНИМАНИЕ! Сумма по строке не сходится с общей численностью выпускников! Исправьте ошибку в расчетах, пока это сообщение не исчезнет!") -> проверка пройдена
A88: ПФО | B88: Чувашская Республика | C88: 09.02.06 | D88: Сетевое и системное администрирование | E88: 05 | F88: Имеют договор о целевом обучении | AH88: =IF(G88=H88+K88+L88+M88+N88+O88+P88+Q88+R88+S88+T88+U88+V88+W88+X88+Y88+Z88+AA88+AB88+AC88+AD88+AE88+AF88,"проверка пройдена","ВНИМАНИЕ! Сумма по строке не сходится с общей численностью выпускников! Исправьте ошибку в расчетах, пока это сообщение не исчезнет!") -> проверка пройдена
A89: ПФО | B89: Чувашская Республика | C89: 09.02.07 | D89: Информационные системы и программирование | E89: 01 | F89: Всего (общая численность выпускников) | G89: 21 | H89: 7 | I89: 2 | J89: 7 | K89: 0 | L89: 0 | M89: 6 | N89: 2 | O89: 0 | P89: 2 | X89: 0 | AA89: 4 | AF89: 0 | AH89: =IF(G89=H89+K89+L89+M89+N89+O89+P89+Q89+R89+S89+T89+U89+V89+W89+X89+Y89+Z89+AA89+AB89+AC89+AD89+AE89+AF89,"проверка пройдена","ВНИМАНИЕ! Сумма по строке не сходится с общей численностью выпускников! Исправьте ошибку в расчетах, пока это сообщение не исчезнет!") -> проверка пройдена
A90: ПФО | B90: Чувашская Республика | C90: 09.02.07 | D90: Информационные системы и программирование | E90: 02 | F90: из общей численности выпускников (из строки 01): лица с ОВЗ | AH90: =IF(G90=H90+K90+L90+M90+N90+O90+P90+Q90+R90+S90+T90+U90+V90+W90+X90+Y90+Z90+AA90+AB90+AC90+AD90+AE90+AF90,"проверка пройдена","ВНИМАНИЕ! Сумма по строке не сходится с общей численностью выпускников! Исправьте ошибку в расчетах, пока это сообщение не исчезнет!") -> проверка пройдена
A91: ПФО | B91: Чувашская Республика | C91: 09.02.07 | D91: Информационные системы и программирование | E91: 03 | F91: из числа лиц с ОВЗ (из строки 02): инвалиды и дети-инвалиды | AH91: =IF(G91=H91+K91+L91+M91+N91+O91+P91+Q91+R91+S91+T91+U91+V91+W91+X91+Y91+Z91+AA91+AB91+AC91+AD91+AE91+AF91,"проверка пройдена","ВНИМАНИЕ! Сумма по строке не сходится с общей численностью выпускников! Исправьте ошибку в расчетах, пока это сообщение не исчезнет!") -> проверка пройдена
A92: ПФО | B92: Чувашская Республика | C92: 09.02.07 | D92: Информационные системы и программирование | E92: 04 | F92: Инвалиды и дети-инвалиды (кроме учтенных в строке 03) | AH92: =IF(G92=H92+K92+L92+M92+N92+O92+P92+Q92+R92+S92+T92+U92+V92+W92+X92+Y92+Z92+AA92+AB92+AC92+AD92+AE92+AF92,"проверка пройдена","ВНИМАНИЕ! Сумма по строке не сходится с общей численностью выпускников! Исправьте ошибку в расчетах, пока это сообщение не исчезнет!") -> проверка пройдена
A93: ПФО | B93: Чувашская Республика | C93: 09.02.07 | D93: Информационные системы и программирование | E93: 05 | F93: Имеют договор о целевом обучении | AH93: =IF(G93=H93+K93+L93+M93+N93+O93+P93+Q93+R93+S93+T93+U93+V93+W93+X93+Y93+Z93+AA93+AB93+AC93+AD93+AE93+AF93,"проверка пройдена","ВНИМАНИЕ! Сумма по строке не сходится с общей численностью выпускников! Исправьте ошибку в расчетах, пока это сообщение не исчезнет!") -> проверка пройдена
A94: ПФО | B94: Чувашская Республика | C94: 10.02.01 | D94: Организация и технология защиты информации | E94: 01 | F94: Всего (общая численность выпускников) | AH94: =IF(G94=H94+K94+L94+M94+N94+O94+P94+Q94+R94+S94+T94+U94+V94+W94+X94+Y94+Z94+AA94+AB94+AC94+AD94+AE94+AF94,"проверка пройдена","ВНИМАНИЕ! Сумма по строке не сходится с общей численностью выпускников! Исправьте ошибку в расчетах, пока это сообщение не исчезнет!") -> проверка пройдена
A95: ПФО | B95: Чувашская Республика | C95: 10.02.01 | D95: Организация и технология защиты информации | E95: 02 | F95: из общей численности выпускников (из строки 01): лица с ОВЗ | AH95: =IF(G95=H95+K95+L95+M95+N95+O95+P95+Q95+R95+S95+T95+U95+V95+W95+X95+Y95+Z95+AA95+AB95+AC95+AD95+AE95+AF95,"проверка пройдена","ВНИМАНИЕ! Сумма по строке не сходится с общей численностью выпускников! Исправьте ошибку в расчетах, пока это сообщение не исчезнет!") -> проверка пройдена
A96: ПФО | B96: Чувашская Республика | C96: 10.02.01 | D96: Организация и технология защиты информации | E96: 03 | F96: из числа лиц с ОВЗ (из строки 02): инвалиды и дети-инвалиды | AH96: =IF(G96=H96+K96+L96+M96+N96+O96+P96+Q96+R96+S96+T96+U96+V96+W96+X96+Y96+Z96+AA96+AB96+AC96+AD96+AE96+AF96,"проверка пройдена","ВНИМАНИЕ! Сумма по строке не сходится с общей численностью выпускников! Исправьте ошибку в расчетах, пока это сообщение не исчезнет!") -> проверка пройдена
A97: ПФО | B97: Чувашская Республика | C97: 10.02.01 | D97: Организация и технология защиты информации | E97: 04 | F97: Инвалиды и дети-инвалиды (кроме учтенных в строке 03) | AH97: =IF(G97=H97+K97+L97+M97+N97+O97+P97+Q97+R97+S97+T97+U97+V97+W97+X97+Y97+Z97+AA97+AB97+AC97+AD97+AE97+AF97,"проверка пройдена","ВНИМАНИЕ! Сумма по строке не сходится с общей численностью выпускников! Исправьте ошибку в расчетах, пока это сообщение не исчезнет!") -> проверка пройдена
A98: ПФО | B98: Чувашская Республика | C98: 10.02.01 | D98: Организация и технология защиты информации | E98: 05 | F98: Имеют договор о целевом обучении | AH98: =IF(G98=H98+K98+L98+M98+N98+O98+P98+Q98+R98+S98+T98+U98+V98+W98+X98+Y98+Z98+AA98+AB98+AC98+AD98+AE98+AF98,"проверка пройдена","ВНИМАНИЕ! Сумма по строке не сходится с общей численностью выпускников! Исправьте ошибку в расчетах, пока это сообщение не исчезнет!") -> проверка пройдена
A99: ПФО | B99: Чувашская Республика | C99: 11.01.01 | D99: =VLOOKUP(C99,'Коды программ'!$A$2:$B$578,2,FALSE) -> Монтажник радиоэлектронной аппаратуры и приборов | E99: 01 | F99: Всего (общая численность выпускников) | AH99: =IF(G99=H99+K99+L99+M99+N99+O99+P99+Q99+R99+S99+T99+U99+V99+W99+X99+Y99+Z99+AA99+AB99+AC99+AD99+AE99+AF99,"проверка пройдена","ВНИМАНИЕ! Сумма по строке не сходится с общей численностью выпускников! Исправьте ошибку в расчетах, пока это сообщение не исчезнет!") -> проверка пройдена
A100: ПФО | B100: Чувашская Республика | C100: 11.01.01 | D100: =VLOOKUP(C100,'Коды программ'!$A$2:$B$578,2,FALSE) -> Монтажник радиоэлектронной аппаратуры и приборов | E100: 02 | F100: из общей численности выпускников (из строки 01): лица с ОВЗ | AH100: =IF(G100=H100+K100+L100+M100+N100+O100+P100+Q100+R100+S100+T100+U100+V100+W100+X100+Y100+Z100+AA100+AB100+AC100+AD100+AE100+AF100,"проверка пройдена","ВНИМАНИЕ! Сумма по строке не сходится с общей численностью выпускников! Исправьте ошибку в расчетах, пока это сообщение не исчезнет!") -> проверка пройдена
A101: ПФО | B101: Чувашская Республика | C101: 11.01.01 | D101: =VLOOKUP(C101,'Коды программ'!$A$2:$B$578,2,FALSE) -> Монтажник радиоэлектронной аппаратуры и приборов | E101: 03 | F101: из числа лиц с ОВЗ (из строки 02): инвалиды и дети-инвалиды | AH101: =IF(G101=H101+K101+L101+M101+N101+O101+P101+Q101+R101+S101+T101+U101+V101+W101+X101+Y101+Z101+AA101+AB101+AC101+AD101+AE101+AF101,"проверка пройдена","ВНИМАНИЕ! Сумма по строке не сходится с общей численностью выпускников! Исправьте ошибку в расчетах, пока это сообщение не исчезнет!") -> проверка пройдена
A102: ПФО | B102: Чувашская Республика | C102: 11.01.01 | D102: =VLOOKUP(C102,'Коды программ'!$A$2:$B$578,2,FALSE) -> Монтажник радиоэлектронной аппаратуры и приборов | E102: 04 | F102: Инвалиды и дети-инвалиды (кроме учтенных в строке 03) | AH102: =IF(G102=H102+K102+L102+M102+N102+O102+P102+Q102+R102+S102+T102+U102+V102+W102+X102+Y102+Z102+AA102+AB102+AC102+AD102+AE102+AF102,"проверка пройдена","ВНИМАНИЕ! Сумма по строке не сходится с общей численностью выпускников! Исправьте ошибку в расчетах, пока это сообщение не исчезнет!") -> проверка пройдена
A103: ПФО | B103: Чувашская Республика | C103: 11.01.01 | D103: =VLOOKUP(C103,'Коды программ'!$A$2:$B$578,2,FALSE) -> Монтажник радиоэлектронной аппаратуры и приборов | E103: 05 | F103: Имеют договор о целевом обучении | AH103: =IF(G103=H103+K103+L103+M103+N103+O103+P103+Q103+R103+S103+T103+U103+V103+W103+X103+Y103+Z103+AA103+AB103+AC103+AD103+AE103+AF103,"проверка пройдена","ВНИМАНИЕ! Сумма по строке не сходится с общей численностью выпускников! Исправьте ошибку в расчетах, пока это сообщение не исчезнет!") -> проверка пройдена
A104: ПФО | B104: Чувашская Республика | C104: 11.02.09 | D104: Многоканальные телекоммуникационные системы | E104: 01 | F104: Всего (общая численность выпускников) | AH104: =IF(G104=H104+K104+L104+M104+N104+O104+P104+Q104+R104+S104+T104+U104+V104+W104+X104+Y104+Z104+AA104+AB104+AC104+AD104+AE104+AF104,"проверка пройдена","ВНИМАНИЕ! Сумма по строке не сходится с общей численностью выпускников! Исправьте ошибку в расчетах, пока это сообщение не исчезнет!") -> проверка пройдена
A105: ПФО | B105: Чувашская Республика | C105: 11.02.09 | D105: Многоканальные телекоммуникационные системы | E105: 02 | F105: из общей численности выпускников (из строки 01): лица с ОВЗ | AH105: =IF(G105=H105+K105+L105+M105+N105+O105+P105+Q105+R105+S105+T105+U105+V105+W105+X105+Y105+Z105+AA105+AB105+AC105+AD105+AE105+AF105,"проверка пройдена","ВНИМАНИЕ! Сумма по строке не сходится с общей численностью выпускников! Исправьте ошибку в расчетах, пока это сообщение не исчезнет!") -> проверка пройдена
A106: ПФО | B106: Чувашская Республика | C106: 11.02.09 | D106: Многоканальные телекоммуникационные системы | E106: 03 | F106: из числа лиц с ОВЗ (из строки 02): инвалиды и дети-инвалиды | AH106: =IF(G106=H106+K106+L106+M106+N106+O106+P106+Q106+R106+S106+T106+U106+V106+W106+X106+Y106+Z106+AA106+AB106+AC106+AD106+AE106+AF106,"проверка пройдена","ВНИМАНИЕ! Сумма по строке не сходится с общей численностью выпускников! Исправьте ошибку в расчетах, пока это сообщение не исчезнет!") -> проверка пройдена
A107: ПФО | B107: Чувашская Республика | C107: 11.02.09 | D107: Многоканальные телекоммуникационные системы | E107: 04 | F107: Инвалиды и дети-инвалиды (кроме учтенных в строке 03) | AH107: =IF(G107=H107+K107+L107+M107+N107+O107+P107+Q107+R107+S107+T107+U107+V107+W107+X107+Y107+Z107+AA107+AB107+AC107+AD107+AE107+AF107,"проверка пройдена","ВНИМАНИЕ! Сумма по строке не сходится с общей численностью выпускников! Исправьте ошибку в расчетах, пока это сообщение не исчезнет!") -> проверка пройдена
A108: ПФО | B108: Чувашская Республика | C108: 11.02.09 | D108: Многоканальные телекоммуникационные системы | E108: 05 | F108: Имеют договор о целевом обучении | AH108: =IF(G108=H108+K108+L108+M108+N108+O108+P108+Q108+R108+S108+T108+U108+V108+W108+X108+Y108+Z108+AA108+AB108+AC108+AD108+AE108+AF108,"проверка пройдена","ВНИМАНИЕ! Сумма по строке не сходится с общей численностью выпускников! Исправьте ошибку в расчетах, пока это сообщение не исчезнет!") -> проверка пройдена
A109: ПФО | B109: Чувашская Республика | C109: 12.02.10 | D109: Монтаж, техническое обслуживание и ремонт биотехнических и медицинских аппаратов и систем | E109: 01 | F109: Всего (общая численность выпускников) | AH109: =IF(G109=H109+K109+L109+M109+N109+O109+P109+Q109+R109+S109+T109+U109+V109+W109+X109+Y109+Z109+AA109+AB109+AC109+AD109+AE109+AF109,"проверка пройдена","ВНИМАНИЕ! Сумма по строке не сходится с общей численностью выпускников! Исправьте ошибку в расчетах, пока это сообщение не исчезнет!") -> проверка пройдена
A110: ПФО | B110: Чувашская Республика | C110: 12.02.10 | D110: Монтаж, техническое обслуживание и ремонт биотехнических и медицинских аппаратов и систем | E110: 02 | F110: из общей численности выпускников (из строки 01): лица с ОВЗ | AH110: =IF(G110=H110+K110+L110+M110+N110+O110+P110+Q110+R110+S110+T110+U110+V110+W110+X110+Y110+Z110+AA110+AB110+AC110+AD110+AE110+AF110,"проверка пройдена","ВНИМАНИЕ! Сумма по строке не сходится с общей численностью выпускников! Исправьте ошибку в расчетах, пока это сообщение не исчезнет!") -> проверка пройдена
A111: ПФО | B111: Чувашская Республика | C111: 12.02.10 | D111: Монтаж, техническое обслуживание и ремонт биотехнических и медицинских аппаратов и систем | E111: 03 | F111: из числа лиц с ОВЗ (из строки 02): инвалиды и дети-инвалиды | AH111: =IF(G111=H111+K111+L111+M111+N111+O111+P111+Q111+R111+S111+T111+U111+V111+W111+X111+Y111+Z111+AA111+AB111+AC111+AD111+AE111+AF111,"проверка пройдена","ВНИМАНИЕ! Сумма по строке не сходится с общей численностью выпускников! Исправьте ошибку в расчетах, пока это сообщение не исчезнет!") -> проверка пройдена
A112: ПФО | B112: Чувашская Республика | C112: 12.02.10 | D112: Монтаж, техническое обслуживание и ремонт биотехнических и медицинских аппаратов и систем | E112: 04 | F112: Инвалиды и дети-инвалиды (кроме учтенных в строке 03) | AH112: =IF(G112=H112+K112+L112+M112+N112+O112+P112+Q112+R112+S112+T112+U112+V112+W112+X112+Y112+Z112+AA112+AB112+AC112+AD112+AE112+AF112,"проверка пройдена","ВНИМАНИЕ! Сумма по строке не сходится с общей численностью выпускников! Исправьте ошибку в расчетах, пока это сообщение не исчезнет!") -> проверка пройдена
A113: ПФО | B113: Чувашская Республика | C113: 12.02.10 | D113: Монтаж, техническое обслуживание и ремонт биотехнических и медицинских аппаратов и систем | E113: 05 | F113: Имеют договор о целевом обучении | AH113: =IF(G113=H113+K113+L113+M113+N113+O113+P113+Q113+R113+S113+T113+U113+V113+W113+X113+Y113+Z113+AA113+AB113+AC113+AD113+AE113+AF113,"проверка пройдена","ВНИМАНИЕ! Сумма по строке не сходится с общей численностью выпускников! Исправьте ошибку в расчетах, пока это сообщение не исчезнет!") -> проверка пройдена
A114: ПФО | B114: Чувашская Республика | C114: 13.01.10 | D114: Электромонтер по ремонту и обслуживанию электрооборудования (по отраслям) | E114: 01 | F114: Всего (общая численность выпускников) | AH114: =IF(G114=H114+K114+L114+M114+N114+O114+P114+Q114+R114+S114+T114+U114+V114+W114+X114+Y114+Z114+AA114+AB114+AC114+AD114+AE114+AF114,"проверка пройдена","ВНИМАНИЕ! Сумма по строке не сходится с общей численностью выпускников! Исправьте ошибку в расчетах, пока это сообщение не исчезнет!") -> проверка пройдена
A115: ПФО | B115: Чувашская Республика | C115: 13.01.10 | D115: Электромонтер по ремонту и обслуживанию электрооборудования (по отраслям) | E115: 02 | F115: из общей численности выпускников (из строки 01): лица с ОВЗ | AH115: =IF(G115=H115+K115+L115+M115+N115+O115+P115+Q115+R115+S115+T115+U115+V115+W115+X115+Y115+Z115+AA115+AB115+AC115+AD115+AE115+AF115,"проверка пройдена","ВНИМАНИЕ! Сумма по строке не сходится с общей численностью выпускников! Исправьте ошибку в расчетах, пока это сообщение не исчезнет!") -> проверка пройдена
... A133: ПФО | B133: Чувашская Республика | C133: 13.02.11 | D133: Техническая эксплуатация и обслуживание электрического и электромеханического оборудования (по отраслям) | E133: 05 | F133: Имеют договор о целевом обучении | AH133: =IF(G133=H133+K133+L133+M133+N133+O133+P133+Q133+R133+S133+T133+U133+V133+W133+X133+Y133+Z133+AA133+AB133+AC133+AD133+AE133+AF133,"проверка пройдена","ВНИМАНИЕ! Сумма по строке не сходится с общей численностью выпускников! Исправьте ошибку в расчетах, пока это сообщение не исчезнет!") -> проверка пройдена
A134: ПФО | B134: Чувашская Республика | C134: 15.01.05 | D134: =VLOOKUP(C134,'Коды программ'!$A$2:$B$578,2,FALSE) -> Сварщик (ручной и частично механизированной сварки (наплавки) | E134: 01 | F134: Всего (общая численность выпускников) | G134: 25 | H134: 19 | I134: 6 | J134: 18 | K134: 0 | L134: 0 | M134: 2 | N134: 0 | O134: 4 | AA134: 0 | AB134: 0 | AC134: 0 | AD134: 0 | AE134: 0 | AF134: 0 | AH134: =IF(G134=H134+K134+L134+M134+N134+O134+P134+Q134+R134+S134+T134+U134+V134+W134+X134+Y134+Z134+AA134+AB134+AC134+AD134+AE134+AF134,"проверка пройдена","ВНИМАНИЕ! Сумма по строке не сходится с общей численностью выпускников! Исправьте ошибку в расчетах, пока это сообщение не исчезнет!") -> проверка пройдена
A135: ПФО | B135: Чувашская Республика | C135: 15.01.05 | D135: =VLOOKUP(C135,'Коды программ'!$A$2:$B$578,2,FALSE) -> Сварщик (ручной и частично механизированной сварки (наплавки) | E135: 02 | F135: из общей численности выпускников (из строки 01): лица с ОВЗ | AA135: 0 | AB135: 0 | AC135: 0 | AD135: 0 | AE135: 0 | AF135: 0 | AH135: =IF(G135=H135+K135+L135+M135+N135+O135+P135+Q135+R135+S135+T135+U135+V135+W135+X135+Y135+Z135+AA135+AB135+AC135+AD135+AE135+AF135,"проверка пройдена","ВНИМАНИЕ! Сумма по строке не сходится с общей численностью выпускников! Исправьте ошибку в расчетах, пока это сообщение не исчезнет!") -> проверка пройдена
A136: ПФО | B136: Чувашская Республика | C136: 15.01.05 | D136: =VLOOKUP(C136,'Коды программ'!$A$2:$B$578,2,FALSE) -> Сварщик (ручной и частично механизированной сварки (наплавки) | E136: 03 | F136: из числа лиц с ОВЗ (из строки 02): инвалиды и дети-инвалиды | AH136: =IF(G136=H136+K136+L136+M136+N136+O136+P136+Q136+R136+S136+T136+U136+V136+W136+X136+Y136+Z136+AA136+AB136+AC136+AD136+AE136+AF136,"проверка пройдена","ВНИМАНИЕ! Сумма по строке не сходится с общей численностью выпускников! Исправьте ошибку в расчетах, пока это сообщение не исчезнет!") -> проверка пройдена
A137: ПФО | B137: Чувашская Республика | C137: 15.01.05 | D137: =VLOOKUP(C137,'Коды программ'!$A$2:$B$578,2,FALSE) -> Сварщик (ручной и частично механизированной сварки (наплавки) | E137: 04 | F137: Инвалиды и дети-инвалиды (кроме учтенных в строке 03) | AH137: =IF(G137=H137+K137+L137+M137+N137+O137+P137+Q137+R137+S137+T137+U137+V137+W137+X137+Y137+Z137+AA137+AB137+AC137+AD137+AE137+AF137,"проверка пройдена","ВНИМАНИЕ! Сумма по строке не сходится с общей численностью выпускников! Исправьте ошибку в расчетах, пока это сообщение не исчезнет!") -> проверка пройдена
A138: ПФО | B138: Чувашская Республика | C138: 15.01.05 | D138: =VLOOKUP(C138,'Коды программ'!$A$2:$B$578,2,FALSE) -> Сварщик (ручной и частично механизированной сварки (наплавки) | E138: 05 | F138: Имеют договор о целевом обучении | AH138: =IF(G138=H138+K138+L138+M138+N138+O138+P138+Q138+R138+S138+T138+U138+V138+W138+X138+Y138+Z138+AA138+AB138+AC138+AD138+AE138+AF138,"проверка пройдена","ВНИМАНИЕ! Сумма по строке не сходится с общей численностью выпускников! Исправьте ошибку в расчетах, пока это сообщение не исчезнет!") -> проверка пройдена
A139: ПФО | B139: Чувашская Республика | C139: 15.01.21 | D139: Электромонтер охранно-пожарной сигнализации | E139: 01 | F139: Всего (общая численность выпускников) | AH139: =IF(G139=H139+K139+L139+M139+N139+O139+P139+Q139+R139+S139+T139+U139+V139+W139+X139+Y139+Z139+AA139+AB139+AC139+AD139+AE139+AF139,"проверка пройдена","ВНИМАНИЕ! Сумма по строке не сходится с общей численностью выпускников! Исправьте ошибку в расчетах, пока это сообщение не исчезнет!") -> проверка пройдена
A140: ПФО | B140: Чувашская Республика | C140: 15.01.21 | D140: Электромонтер охранно-пожарной сигнализации | E140: 02 | F140: из общей численности выпускников (из строки 01): лица с ОВЗ | AH140: =IF(G140=H140+K140+L140+M140+N140+O140+P140+Q140+R140+S140+T140+U140+V140+W140+X140+Y140+Z140+AA140+AB140+AC140+AD140+AE140+AF140,"проверка пройдена","ВНИМАНИЕ! Сумма по строке не сходится с общей численностью выпускников! Исправьте ошибку в расчетах, пока это сообщение не исчезнет!") -> проверка пройдена
A141: ПФО | B141: Чувашская Республика | C141: 15.01.21 | D141: Электромонтер охранно-пожарной сигнализации | E141: 03 | F141: из числа лиц с ОВЗ (из строки 02): инвалиды и дети-инвалиды | AH141: =IF(G141=H141+K141+L141+M141+N141+O141+P141+Q141+R141+S141+T141+U141+V141+W141+X141+Y141+Z141+AA141+AB141+AC141+AD141+AE141+AF141,"проверка пройдена","ВНИМАНИЕ! Сумма по строке не сходится с общей численностью выпускников! Исправьте ошибку в расчетах, пока это сообщение не исчезнет!") -> проверка пройдена
A142: ПФО | B142: Чувашская Республика | C142: 15.01.21 | D142: Электромонтер охранно-пожарной сигнализации | E142: 04 | F142: Инвалиды и дети-инвалиды (кроме учтенных в строке 03) | AH142: =IF(G142=H142+K142+L142+M142+N142+O142+P142+Q142+R142+S142+T142+U142+V142+W142+X142+Y142+Z142+AA142+AB142+AC142+AD142+AE142+AF142,"проверка пройдена","ВНИМАНИЕ! Сумма по строке не сходится с общей численностью выпускников! Исправьте ошибку в расчетах, пока это сообщение не исчезнет!") -> проверка пройдена
...

Sheet Лист1

Sheet Коды программ
A1: Коды и наименования образовательных программ | C1: Ведомственная принадлежность | E1: Тип | G1: Регионы | K1: ФО
A2: 05.01.01 | B2: Гидрометнаблюдатель | C2: федеральная | E2: ПОО | G2: Алтайский край | K2: ДФО
A3: 05.02.01 | B3: Картография | C3: региональная | E3: ОО ВО | G3: Амурская область | K3: ПФО
A4: 05.02.02 | B4: Гидрология | C4: муниципальная | G4: Архангельская область | K4: СЗФО
A5: 05.02.03 | B5: Метеорология | C5: частная | G5: Астраханская область | K5: СКФО
A6: 07.02.01 | B6: Архитектура | G6: Белгородская область | K6: СФО
A7: 08.01.01 | B7: Изготовитель арматурных сеток и каркасов | G7: Брянская область | K7: УФО
A8: 08.01.02 | B8: Монтажник трубопроводов | G8: Владимирская область | K8: ЦФО
A9: 08.01.03 | B9: Трубоклад | G9: Волгоградская область | K9: ЮФО
A10: 08.01.04 | B10: Кровельщик | G10: Вологодская область
A11: 08.01.05 | B11: Мастер столярно-плотничных и паркетных работ | G11: Воронежская область
A12: 08.01.06 | B12: Мастер сухого строительства | G12: город Москва
A13: 08.01.07 | B13: Мастер общестроительных работ | G13: город Санкт-Петербург
A14: 08.01.08 | B14: Мастер отделочных строительных работ | G14: город Севастополь
A15: 08.01.09 | B15: Слесарь по строительно-монтажным работам | G15: Еврейская автономная область
A16: 08.01.10 | B16: Мастер жилищно-коммунального хозяйства | G16: Забайкальский край
A17: 08.01.11 | B17: Машинист машин и оборудования в производстве цемента | G17: Ивановская область
A18: 08.01.12 | B18: Оператор технологического оборудования в производстве стеновых и вяжущих материалов | G18: Иркутская область
A19: 08.01.13 | B19: Изготовитель железобетонных изделий | G19: Кабардино-Балкарская республика
A20: 08.01.14 | B20: Монтажник санитарно-технических, вентиляционных систем и оборудования | G20: Калининградская область
A21: 08.01.15 | B21: Слесарь по изготовлению деталей и узлов технических систем в строительстве | G21: Калужская область
... A86: 11.02.15 | B86: Инфокоммуникационные сети и системы связи | G86: Ярославская область
A87: 11.02.16 | B87: Монтаж, техническое обслуживание и ремонт электронных приборов и устройств
A88: 12.01.01 | B88: Наладчик оборудования оптического производства
A89: 12.01.02 | B89: Оптик-механик
A90: 12.01.03 | B90: Сборщик очков
A91: 12.01.04 | B91: Электромеханик по ремонту и обслуживанию наркознодыхательной аппаратуры
A92: 12.01.05 | B92: Электромеханик по ремонту и обслуживанию медицинского оборудования
A93: 12.01.06 | B93: Электромеханик по ремонту и обслуживанию медицинских оптических приборов
A94: 12.01.07 | B94: Электромеханик по ремонту и обслуживанию электронной медицинской аппаратуры
A95: 12.01.08 | B95: Механик протезно-ортопедических изделий
A96: 12.01.09 | B96: Мастер по изготовлению и сборке деталей и узлов оптических и оптико-электронных приборов и систем
A97: 12.02.01 | B97: Авиационные приборы и комплексы
A98: 12.02.02 | B98: Акустические приборы и системы
... A578: 55.02.02 | B578: Анимация (по видам)
