Workbook

Sheet Форма 1
AH1: Приложение 1
A3: Не допускается предоставление отчета в адрес Минпросвещения России образовательными организациями. Данные подаются региональным органом исполнительной власти по всем ОО СПО, расположенным на территории субъекта Российской Федерации, вне зависимости от ведомственной принадлежности Ячейки не объединяются. Ячейки с числовыми данными, одновременно содержащими текст или другие числовые значения, учитываться не будут. Формат ячеек с числовыми данными - только "Числовой" Графы "ПРОВЕРКА" не удаляются и не редактируются Формулы логического контроля: стр. 03 < стр. 02 стр. 02 и стр. 04 и стр. 05 < стр. 01 гр. 09 и гр. 10 < гр. 08 сумма по видам деятельности (кроме граф "в том числе") равна суммарному выпуску в 2021 году (гр. 07= гр.08 + сумма(с гр.11 по гр.32))
A5: Федеральный округ (указывается в каждой строке) | B5: Субъект Российской Федерации (указывается в каждой строке)) | C5: Код профессии, специальности в формате хх.хх.хх в соответствии с приказом Минобрнауки России от 29 октября 2013 г. № 1199 (выбрать из раскрывающегося списка, проверить графу 04) | D5: Наименование профессии, специальности (добавляется автоматически при корректном вводе кода) | E5: Номер строки | F5: Наименование показателей (категория выпускников) (редактирование наименования не допускается) | G5: Суммарный выпуск в 2023 год (человек) | H5: Распределение выпускников по каналам занятости и иным видам деятельности, человек (каждый выпускник учитывается один раз. Единица измерения - человек) | AG5: Принимаемые меры по содействию занятости (тезисно - вид меры, охват выпускников мерой) | AH5: ПРОВЕРКА (сумма по всем категориям выпускников, распределенных по видам занятости, должна равняться сумме выпускников всего)
H6: Занятые выпускники | N6: Потенциальная занятость (не относится к занятости по итогам обучения, требует дополнительных мер) | Q6: Зона риска (требует оперативных мер и адресной работы) | U6: Прочее, редкие жизненные обстоятельства | AA6: Профессиональные намерения выпускников, ожидаемый эффект от работы по содействию занятости (на ближайшую перспективу - порядка 3-х месяцев)
H7: Трудоустроены (по трудовому договору, договору ГПХ в соответствии с трудовым законодательством, законодательством об обязательном пенсионном страховании) | I7: В том числе (из трудоустроенных): в соответствии с освоенной профессией, специальностью (исходя из осуществляемой трудовой функции) | J7: В том числе (из трудоустроенных): работают на протяжении не менее 4-х месяцев на последнем месте работы | K7: Индиви-дуальные предприни-матели | L7: Самозанятые (перешедшие на специальный налоговый режим - налог на профессио-нальный доход) | M7: Продолжили обучение | N7: Проходят службу в армии по призыву | O7: Проходят службу в армии на контрактной основе, в органах внутренних дел, Государственной противопожарной службе, органах по контролю за оборотом наркотических средств и психотропных веществ, учреждениях и органах уголовно-исполнительной системы, войсках национальной гвардии Российской Федерации, органах принудительного исполнения Российской Федерации* | P7: Находятся в отпуске по уходу за ребенком | Q7: Неформальная занятость (нелегальная) | R7: Зарегистрированы в центрах занятости в качестве безработных (получают пособие по безработице) и не планируют трудоустраиваться | S7: Не имеют мотивации к трудоустройству (кроме зарегистрированных в качестве безработных) и не планируют трудоустраиваться, в том числе по причинам получения иных социальных льгот | T7: Иные причины нахождения под риском нетрудоустройства | U7: Смерть, тяжелое состояние здоровья | V7: Находятся под следствием, отбывают наказание | W7: Переезд за пределы Российской Федерации (кроме переезда в иные регионы - по ним регион должен располагать сведениями) | X7: Не могут трудоустраиваться в связи с уходом за больными родственниками, в связи с иными семейными обстоятельствами | Y7: Выпускники из числа иностранных граждан, которые не имеют СНИЛС | Z7: Иное (в первую очередь выпускники распределяются по всем остальным графам. Данная графа предназначена для очень редких случаев. Если в нее включено более 1 из 200 выпускников - укажите причины в гр. 33 | AA7: будут трудоустроены | AB7: будут осуществлять предприни-мательскую деятельность | AC7: будут самозанятыми | AD7: будут призваны в армию | AE7: будут в армии на контрактной основе, в органах внутренних дел, Государственной противопожарной службе, органах по контролю за оборотом наркотических средств и психотропных веществ, учреждениях и органах уголовно-исполнительной системы, войсках национальной гвардии Российской Федерации, органах принудительного исполнения Российской Федерации* | AF7: будут продолжать обучение
A8: 01 | B8: 02 | C8: 03 | D8: 04 | E8: 05 | F8: 06 | G8: 07 | H8: 08 | I8: 09 | J8: 10 | K8: 11 | L8: 12 | M8: 13 | N8: 14 | O8: 15 | P8: 16 | Q8: 17 | R8: 18 | S8: 19 | T8: 20 | U8: 21 | V8: 22 | W8: 23 | X8: 24 | Y8: 25 | Z8: 26 | AA8: 27 | AB8: 28 | AC8: 29 | AD8: 30 | AE8: 31 | AF8: 32 | AG8: 33 | AH8: 34
A9: ПФО | B9: Чувашская Республика | C9: 08.01.06 | D9: =VLOOKUP(C9,'Коды программ'!$A$2:$B$578,2,FALSE) -> Мастер сухого строительства | E9: 01 | F9: Всего (общая численность выпускников) | AH9: =IF(G9=H9+K9+L9+M9+N9+O9+P9+Q9+R9+S9+T9+U9+V9+W9+X9+Y9+Z9+AA9+AB9+AC9+AD9+AE9+AF9,"проверка пройдена","ВНИМАНИЕ! Сумма по строке не сходится с общей численностью выпускников! Исправьте ошибку в расчетах, пока это сообщение не исчезнет!") -> проверка пройдена
A10: ПФО | B10: Чувашская Республика | C10: 08.01.06 | D10: =VLOOKUP(C10,'Коды программ'!$A$2:$B$578,2,FALSE) -> Мастер сухого строительства | E10: 02 | F10: из общей численности выпускников (из строки 01): лица с ОВЗ | AH10: =IF(G10=H10+K10+L10+M10+N10+O10+P10+Q10+R10+S10+T10+U10+V10+W10+X10+Y10+Z10+AA10+AB10+AC10+AD10+AE10+AF10,"проверка пройдена","ВНИМАНИЕ! Сумма по строке не сходится с общей численностью выпускников! Исправьте ошибку в расчетах, пока это сообщение не исчезнет!") -> проверка пройдена
A11: ПФО | B11: Чувашская Республика | C11: 08.01.06 | D11: =VLOOKUP(C11,'Коды программ'!$A$2:$B$578,2,FALSE) -> Мастер сухого строительства | E11: 03 | F11: из числа лиц с ОВЗ (из строки 02): инвалиды и дети-инвалиды | AH11: =IF(G11=H11+K11+L11+M11+N11+O11+P11+Q11+R11+S11+T11+U11+V11+W11+X11+Y11+Z11+AA11+AB11+AC11+AD11+AE11+AF11,"проверка пройдена","ВНИМАНИЕ! Сумма по строке не сходится с общей численностью выпускников! Исправьте ошибку в расчетах, пока это сообщение не исчезнет!") -> проверка пройдена
A12: ПФО | B12: Чувашская Республика | C12: 08.01.06 | D12: =VLOOKUP(C12,'Коды программ'!$A$2:$B$578,2,FALSE) -> Мастер сухого строительства | E12: 04 | F12: Инвалиды и дети-инвалиды (кроме учтенных в строке 03) | AH12: =IF(G12=H12+K12+L12+M12+N12+O12+P12+Q12+R12+S12+T12+U12+V12+W12+X12+Y12+Z12+AA12+AB12+AC12+AD12+AE12+AF12,"проверка пройдена","ВНИМАНИЕ! Сумма по строке не сходится с общей численностью выпускников! Исправьте ошибку в расчетах, пока это сообщение не исчезнет!") -> проверка пройдена
A13: ПФО | B13: Чувашская Республика | C13: 08.01.06 | D13: =VLOOKUP(C13,'Коды программ'!$A$2:$B$578,2,FALSE) -> Мастер сухого строительства | E13: 05 | F13: Имеют договор о целевом обучении | AH13: =IF(G13=H13+K13+L13+M13+N13+O13+P13+Q13+R13+S13+T13+U13+V13+W13+X13+Y13+Z13+AA13+AB13+AC13+AD13+AE13+AF13,"проверка пройдена","ВНИМАНИЕ! Сумма по строке не сходится с общей численностью выпускников! Исправьте ошибку в расчетах, пока это сообщение не исчезнет!") -> проверка пройдена
A14: ПФО | B14: Чувашская Республика | C14: 08.01.07 | D14: =VLOOKUP(C14,'Коды программ'!$A$2:$B$578,2,FALSE) -> Мастер общестроительных работ | E14: 01 | F14: Всего (общая численность выпускников) | AH14: =IF(G14=H14+K14+L14+M14+N14+O14+P14+Q14+R14+S14+T14+U14+V14+W14+X14+Y14+Z14+AA14+AB14+AC14+AD14+AE14+AF14,"проверка пройдена","ВНИМАНИЕ! Сумма по строке не сходится с общей численностью выпускников! Исправьте ошибку в расчетах, пока это сообщение не исчезнет!") -> проверка пройдена
A15: ПФО | B15: Чувашская Республика | C15: 08.01.07 | D15: =VLOOKUP(C15,'Коды программ'!$A$2:$B$578,2,FALSE) -> Мастер общестроительных работ | E15: 02 | F15: из общей численности выпускников (из строки 01): лица с ОВЗ | AH15: =IF(G15=H15+K15+L15+M15+N15+O15+P15+Q15+R15+S15+T15+U15+V15+W15+X15+Y15+Z15+AA15+AB15+AC15+AD15+AE15+AF15,"проверка пройдена","ВНИМАНИЕ! Сумма по строке не сходится с общей численностью выпускников! Исправьте ошибку в расчетах, пока это сообщение не исчезнет!") -> проверка пройдена
A16: ПФО | B16: Чувашская Республика | C16: 08.01.07 | D16: =VLOOKUP(C16,'Коды программ'!$A$2:$B$578,2,FALSE) -> Мастер общестроительных работ | E16: 03 | F16: из числа лиц с ОВЗ (из строки 02): инвалиды и дети-инвалиды | AH16: =IF(G16=H16+K16+L16+M16+N16+O16+P16+Q16+R16+S16+T16+U16+V16+W16+X16+Y16+Z16+AA16+AB16+AC16+AD16+AE16+AF16,"проверка пройдена","ВНИМАНИЕ! Сумма по строке не сходится с общей численностью выпускников! Исправьте ошибку в расчетах, пока это сообщение не исчезнет!") -> проверка пройдена
A17: ПФО | B17: Чувашская Республика | C17: 08.01.07 | D17: =VLOOKUP(C17,'Коды программ'!$A$2:$B$578,2,FALSE) -> Мастер общестроительных работ | E17: 04 | F17: Инвалиды и дети-инвалиды (кроме учтенных в строке 03) | AH17: =IF(G17=H17+K17+L17+M17+N17+O17+P17+Q17+R17+S17+T17+U17+V17+W17+X17+Y17+Z17+AA17+AB17+AC17+AD17+AE17+AF17,"проверка пройдена","ВНИМАНИЕ! Сумма по строке не сходится с общей численностью выпускников! Исправьте ошибку в расчетах, пока это сообщение не исчезнет!") -> проверка пройдена
A18: ПФО | B18: Чувашская Республика | C18: 08.01.07 | D18: =VLOOKUP(C18,'Коды программ'!$A$2:$B$578,2,FALSE) -> Мастер общестроительных работ | E18: 05 | F18: Имеют договор о целевом обучении | AH18: =IF(G18=H18+K18+L18+M18+N18+O18+P18+Q18+R18+S18+T18+U18+V18+W18+X18+Y18+Z18+AA18+AB18+AC18+AD18+AE18+AF18,"проверка пройдена","ВНИМАНИЕ! Сумма по строке не сходится с общей численностью выпускников! Исправьте ошибку в расчетах, пока это сообщение не исчезнет!") -> проверка пройдена
A19: ПФО | B19: Чувашская Республика | C19: 08.01.14 | D19: =VLOOKUP(C19,'Коды программ'!$A$2:$B$578,2,FALSE) -> Монтажник санитарно-технических, вентиляционных систем и оборудования | E19: 01 | F19: Всего (общая численность выпускников) | AH19: =IF(G19=H19+K19+L19+M19+N19+O19+P19+Q19+R19+S19+T19+U19+V19+W19+X19+Y19+Z19+AA19+AB19+AC19+AD19+AE19+AF19,"проверка пройдена","ВНИМАНИЕ! Сумма по строке не сходится с общей численностью выпускников! Исправьте ошибку в расчетах, пока это сообщение не исчезнет!") -> проверка пройдена
A20: ПФО | B20: Чувашская Республика | C20: 08.01.14 | D20: =VLOOKUP(C20,'Коды программ'!$A$2:$B$578,2,FALSE) -> Монтажник санитарно-технических, вентиляционных систем и оборудования | E20: 02 | F20: из общей численности выпускников (из строки 01): лица с ОВЗ | AH20: =IF(G20=H20+K20+L20+M20+N20+O20+P20+Q20+R20+S20+T20+U20+V20+W20+X20+Y20+Z20+AA20+AB20+AC20+AD20+AE20+AF20,"проверка пройдена","ВНИМАНИЕ! Сумма по строке не сходится с общей численностью выпускников! Исправьте ошибку в расчетах, пока это сообщение не исчезнет!") -> проверка пройдена
... A28: ПФО | B28: Чувашская Республика | C28: 08.01.24 | D28: =VLOOKUP(C28,'Коды программ'!$A$2:$B$578,2,FALSE) -> Мастер столярно-плотничных, паркетных и стекольных работ | E28: 05 | F28: Имеют договор о целевом обучении | AH28: =IF(G28=H28+K28+L28+M28+N28+O28+P28+Q28+R28+S28+T28+U28+V28+W28+X28+Y28+Z28+AA28+AB28+AC28+AD28+AE28+AF28,"проверка пройдена","ВНИМАНИЕ! Сумма по строке не сходится с общей численностью выпускников! Исправьте ошибку в расчетах, пока это сообщение не исчезнет!") -> проверка пройдена
A29: ПФО | B29: Чувашская Республика | C29: 08.01.25 | D29: =VLOOKUP(C29,'Коды программ'!$A$2:$B$578,2,FALSE) -> Мастер отделочных строительных и декоративных работ | E29: 01 | F29: Всего (общая численность выпускников) | G29: 20 | H29: 16 | I29: 7 | J29: 16 | L29: 1 | M29: 1 | N29: 1 | P29: 1 | AD29: 0 | AH29: =IF(G29=H29+K29+L29+M29+N29+O29+P29+Q29+R29+S29+T29+U29+V29+W29+X29+Y29+Z29+AA29+AB29+AC29+AD29+AE29+AF29,"проверка пройдена","ВНИМАНИЕ! Сумма по строке не сходится с общей численностью выпускников! Исправьте ошибку в расчетах, пока это сообщение не исчезнет!") -> проверка пройдена
A30: ПФО | B30: Чувашская Республика | C30: 08.01.25 | D30: =VLOOKUP(C30,'Коды программ'!$A$2:$B$578,2,FALSE) -> Мастер отделочных строительных и декоративных работ | E30: 02 | F30: из общей численности выпускников (из строки 01): лица с ОВЗ | AH30: =IF(G30=H30+K30+L30+M30+N30+O30+P30+Q30+R30+S30+T30+U30+V30+W30+X30+Y30+Z30+AA30+AB30+AC30+AD30+AE30+AF30,"проверка пройдена","ВНИМАНИЕ! Сумма по строке не сходится с общей численностью выпускников! Исправьте ошибку в расчетах, пока это сообщение не исчезнет!") -> проверка пройдена
A31: ПФО | B31: Чувашская Республика | C31: 08.01.25 | D31: =VLOOKUP(C31,'Коды программ'!$A$2:$B$578,2,FALSE) -> Мастер отделочных строительных и декоративных работ | E31: 03 | F31: из числа лиц с ОВЗ (из строки 02): инвалиды и дети-инвалиды | AH31: =IF(G31=H31+K31+L31+M31+N31+O31+P31+Q31+R31+S31+T31+U31+V31+W31+X31+Y31+Z31+AA31+AB31+AC31+AD31+AE31+AF31,"проверка пройдена","ВНИМАНИЕ! Сумма по строке не сходится с общей численностью выпускников! Исправьте ошибку в расчетах, пока это сообщение не исчезнет!") -> проверка пройдена
A32: ПФО | B32: Чувашская Республика | C32: 08.01.25 | D32: =VLOOKUP(C32,'Коды программ'!$A$2:$B$578,2,FALSE) -> Мастер отделочных строительных и декоративных работ | E32: 04 | F32: Инвалиды и дети-инвалиды (кроме учтенных в строке 03) | AH32: =IF(G32=H32+K32+L32+M32+N32+O32+P32+Q32+R32+S32+T32+U32+V32+W32+X32+Y32+Z32+AA32+AB32+AC32+AD32+AE32+AF32,"проверка пройдена","ВНИМАНИЕ! Сумма по строке не сходится с общей численностью выпускников! Исправьте ошибку в расчетах, пока это сообщение не исчезнет!") -> проверка пройдена
A33: ПФО | B33: Чувашская Республика | C33: 08.01.25 | D33: =VLOOKUP(C33,'Коды программ'!$A$2:$B$578,2,FALSE) -> Мастер отделочных строительных и декоративных работ | E33: 05 | F33: Имеют договор о целевом обучении | AH33: =IF(G33=H33+K33+L33+M33+N33+O33+P33+Q33+R33+S33+T33+U33+V33+W33+X33+Y33+Z33+AA33+AB33+AC33+AD33+AE33+AF33,"проверка пройдена","ВНИМАНИЕ! Сумма по строке не сходится с общей численностью выпускников! Исправьте ошибку в расчетах, пока это сообщение не исчезнет!") -> проверка пройдена
A34: ПФО | B34: Чувашская Республика | C34: 08.01.26 | D34: Мастер по ремонту и обслуживанию инженерных систем жилищно-коммунального хозяйства | E34: 01 | F34: Всего (общая численность выпускников) | G34: 24 | H34: 17 | I34: 0 | J34: 17 | K34: 1 | L34: 3 | M34: 0 | N34: 1 | O34: 0 | P34: 0 | Q34: 2 | R34: 0 | S34: 0 | T34: 0 | U34: 0 | V34: 0 | W34: 0 | X34: 0 | Y34: 0 | Z34: 0 | AA34: 0 | AB34: 0 | AC34: 0 | AD34: 0 | AE34: 0 | AF34: 0 | AG34: 0 | AH34: =IF(G34=H34+K34+L34+M34+N34+O34+P34+Q34+R34+S34+T34+U34+V34+W34+X34+Y34+Z34+AA34+AB34+AC34+AD34+AE34+AF34,"проверка пройдена","ВНИМАНИЕ! Сумма по строке не сходится с общей численностью выпускников! Исправьте ошибку в расчетах, пока это сообщение не исчезнет!") -> проверка пройдена
A35: ПФО | B35: Чувашская Республика | C35: 08.01.26 | D35: Мастер по ремонту и обслуживанию инженерных систем жилищно-коммунального хозяйства | E35: 02 | F35: из общей численности выпускников (из строки 01): лица с ОВЗ | AH35: =IF(G35=H35+K35+L35+M35+N35+O35+P35+Q35+R35+S35+T35+U35+V35+W35+X35+Y35+Z35+AA35+AB35+AC35+AD35+AE35+AF35,"проверка пройдена","ВНИМАНИЕ! Сумма по строке не сходится с общей численностью выпускников! Исправьте ошибку в расчетах, пока это сообщение не исчезнет!") -> проверка пройдена
A36: ПФО | B36: Чувашская Республика | C36: 08.01.26 | D36: Мастер по ремонту и обслуживанию инженерных систем жилищно-коммунального хозяйства | E36: 03 | F36: из числа лиц с ОВЗ (из строки 02): инвалиды и дети-инвалиды | AH36: =IF(G36=H36+K36+L36+M36+N36+O36+P36+Q36+R36+S36+T36+U36+V36+W36+X36+Y36+Z36+AA36+AB36+AC36+AD36+AE36+AF36,"проверка пройдена","ВНИМАНИЕ! Сумма по строке не сходится с общей численностью выпускников! Исправьте ошибку в расчетах, пока это сообщение не исчезнет!") -> проверка пройдена
A37: ПФО | B37: Чувашская Республика | C37: 08.01.26 | D37: Мастер по ремонту и обслуживанию инженерных систем жилищно-коммунального хозяйства | E37: 04 | F37: Инвалиды и дети-инвалиды (кроме учтенных в строке 03) | AH37: =IF(G37=H37+K37+L37+M37+N37+O37+P37+Q37+R37+S37+T37+U37+V37+W37+X37+Y37+Z37+AA37+AB37+AC37+AD37+AE37+AF37,"проверка пройдена","ВНИМАНИЕ! Сумма по строке не сходится с общей численностью выпускников! Исправьте ошибку в расчетах, пока это сообщение не исчезнет!") -> проверка пройдена
A38: ПФО | B38: Чувашская Республика | C38: 08.01.26 | D38: Мастер по ремонту и обслуживанию инженерных систем жилищно-коммунального хозяйства | E38: 05 | F38: Имеют договор о целевом обучении | AH38: =IF(G38=H38+K38+L38+M38+N38+O38+P38+Q38+R38+S38+T38+U38+V38+W38+X38+Y38+Z38+AA38+AB38+AC38+AD38+AE38+AF38,"проверка пройдена","ВНИМАНИЕ! Сумма по строке не сходится с общей численностью выпускников! Исправьте ошибку в расчетах, пока это сообщение не исчезнет!") -> проверка пройдена
A39: ПФО | B39: Чувашская Республика | C39: 08.02.01 | D39: =VLOOKUP(C39,'Коды программ'!$A$2:$B$578,2,FALSE) -> Строительство и эксплуатация зданий и сооружений | E39: 01 | F39: Всего (общая численность выпускников) | G39: 22 | H39: 18 | I39: 8 | J39: 9 | R39: 1 | AA39: 3 | AH39: =IF(G39=H39+K39+L39+M39+N39+O39+P39+Q39+R39+S39+T39+U39+V39+W39+X39+Y39+Z39+AA39+AB39+AC39+AD39+AE39+AF39,"проверка пройдена","ВНИМАНИЕ! Сумма по строке не сходится с общей численностью выпускников! Исправьте ошибку в расчетах, пока это сообщение не исчезнет!") -> проверка пройдена
A40: ПФО | B40: Чувашская Республика | C40: 08.02.01 | D40: =VLOOKUP(C40,'Коды программ'!$A$2:$B$578,2,FALSE) -> Строительство и эксплуатация зданий и сооружений | E40: 02 | F40: из общей численности выпускников (из строки 01): лица с ОВЗ | AH40: =IF(G40=H40+K40+L40+M40+N40+O40+P40+Q40+R40+S40+T40+U40+V40+W40+X40+Y40+Z40+AA40+AB40+AC40+AD40+AE40+AF40,"проверка пройдена","ВНИМАНИЕ! Сумма по строке не сходится с общей численностью выпускников! Исправьте ошибку в расчетах, пока это сообщение не исчезнет!") -> проверка пройдена
A41: ПФО | B41: Чувашская Республика | C41: 08.02.01 | D41: =VLOOKUP(C41,'Коды программ'!$A$2:$B$578,2,FALSE) -> Строительство и эксплуатация зданий и сооружений | E41: 03 | F41: из числа лиц с ОВЗ (из строки 02): инвалиды и дети-инвалиды | AH41: =IF(G41=H41+K41+L41+M41+N41+O41+P41+Q41+R41+S41+T41+U41+V41+W41+X41+Y41+Z41+AA41+AB41+AC41+AD41+AE41+AF41,"проверка пройдена","ВНИМАНИЕ! Сумма по строке не сходится с общей численностью выпускников! Исправьте ошибку в расчетах, пока это сообщение не исчезнет!") -> проверка пройдена
A42: ПФО | B42: Чувашская Республика | C42: 08.02.01 | D42: =VLOOKUP(C42,'Коды программ'!$A$2:$B$578,2,FALSE) -> Строительство и эксплуатация зданий и сооружений | E42: 04 | F42: Инвалиды и дети-инвалиды (кроме учтенных в строке 03) | AH42: =IF(G42=H42+K42+L42+M42+N42+O42+P42+Q42+R42+S42+T42+U42+V42+W42+X42+Y42+Z42+AA42+AB42+AC42+AD42+AE42+AF42,"проверка пройдена","ВНИМАНИЕ! Сумма по строке не сходится с общей численностью выпускников! Исправьте ошибку в расчетах, пока это сообщение не исчезнет!") -> проверка пройдена
A43: ПФО | B43: Чувашская Республика | C43: 08.02.01 | D43: =VLOOKUP(C43,'Коды программ'!$A$2:$B$578,2,FALSE) -> Строительство и эксплуатация зданий и сооружений | E43: 05 | F43: Имеют договор о целевом обучении | AH43: =IF(G43=H43+K43+L43+M43+N43+O43+P43+Q43+R43+S43+T43+U43+V43+W43+X43+Y43+Z43+AA43+AB43+AC43+AD43+AE43+AF43,"проверка пройдена","ВНИМАНИЕ! Сумма по строке не сходится с общей численностью выпускников! Исправьте ошибку в расчетах, пока это сообщение не исчезнет!") -> проверка пройдена
A44: ПФО | B44: Чувашская Республика | C44: 08.02.05 | D44: Строительство и эксплуатация автомобильных дорог и аэродромов | E44: 01 | F44: Всего (общая численность выпускников) | G44: 22 | H44: 18 | I44: 5 | J44: 15 | N44: 3 | R44: 1 | AH44: =IF(G44=H44+K44+L44+M44+N44+O44+P44+Q44+R44+S44+T44+U44+V44+W44+X44+Y44+Z44+AA44+AB44+AC44+AD44+AE44+AF44,"проверка пройдена","ВНИМАНИЕ! Сумма по строке не сходится с общей численностью выпускников! Исправьте ошибку в расчетах, пока это сообщение не исчезнет!") -> проверка пройдена
A45: ПФО | B45: Чувашская Республика | C45: 08.02.05 | D45: Строительство и эксплуатация автомобильных дорог и аэродромов | E45: 02 | F45: из общей численности выпускников (из строки 01): лица с ОВЗ | AH45: =IF(G45=H45+K45+L45+M45+N45+O45+P45+Q45+R45+S45+T45+U45+V45+W45+X45+Y45+Z45+AA45+AB45+AC45+AD45+AE45+AF45,"проверка пройдена","ВНИМАНИЕ! Сумма по строке не сходится с общей численностью выпускников! Исправьте ошибку в расчетах, пока это сообщение не исчезнет!") -> проверка пройдена
A46: ПФО | B46: Чувашская Республика | C46: 08.02.05 | D46: Строительство и эксплуатация автомобильных дорог и аэродромов | E46: 03 | F46: из числа лиц с ОВЗ (из строки 02): инвалиды и дети-инвалиды | AH46: =IF(G46=H46+K46+L46+M46+N46+O46+P46+Q46+R46+S46+T46+U46+V46+W46+X46+Y46+Z46+AA46+AB46+AC46+AD46+AE46+AF46,"проверка пройдена","ВНИМАНИЕ! Сумма по строке не сходится с общей численностью выпускников! Исправьте ошибку в расчетах, пока это сообщение не исчезнет!") -> проверка пройдена
A47: ПФО | B47: Чувашская Республика | C47: 08.02.05 | D47: Строительство и эксплуатация автомобильных дорог и аэродромов | E47: 04 | F47: Инвалиды и дети-инвалиды (кроме учтенных в строке 03) | AH47: =IF(G47=H47+K47+L47+M47+N47+O47+P47+Q47+R47+S47+T47+U47+V47+W47+X47+Y47+Z47+AA47+AB47+AC47+AD47+AE47+AF47,"проверка пройдена","ВНИМАНИЕ! Сумма по строке не сходится с общей численностью выпускников! Исправьте ошибку в расчетах, пока это сообщение не исчезнет!") -> проверка пройдена
A48: ПФО | B48: Чувашская Республика | C48: 08.02.05 | D48: Строительство и эксплуатация автомобильных дорог и аэродромов | E48: 05 | F48: Имеют договор о целевом обучении | AH48: =IF(G48=H48+K48+L48+M48+N48+O48+P48+Q48+R48+S48+T48+U48+V48+W48+X48+Y48+Z48+AA48+AB48+AC48+AD48+AE48+AF48,"проверка пройдена","ВНИМАНИЕ! Сумма по строке не сходится с общей численностью выпускников! Исправьте ошибку в расчетах, пока это сообщение не исчезнет!") -> проверка пройдена
A49: ПФО | B49: Чувашская Республика | C49: 08.02.07 | D49: Монтаж и эксплуатация внутренних сантехнических устройств, кондиционирования воздуха и вентиляции | E49: 01 | F49: Всего (общая численность выпускников) | AH49: =IF(G49=H49+K49+L49+M49+N49+O49+P49+Q49+R49+S49+T49+U49+V49+W49+X49+Y49+Z49+AA49+AB49+AC49+AD49+AE49+AF49,"проверка пройдена","ВНИМАНИЕ! Сумма по строке не сходится с общей численностью выпускников! Исправьте ошибку в расчетах, пока это сообщение не исчезнет!") -> проверка пройдена
...

Sheet Лист1

Sheet Коды программ
A1: Коды и наименования образовательных программ | C1: Ведомственная принадлежность | E1: Тип | G1: Регионы | K1: ФО
A2: 05.01.01 | B2: Гидрометнаблюдатель | C2: федеральная | E2: ПОО | G2: Алтайский край | K2: ДФО
A3: 05.02.01 | B3: Картография | C3: региональная | E3: ОО ВО | G3: Амурская область | K3: ПФО
A4: 05.02.02 | B4: Гидрология | C4: муниципальная | G4: Архангельская область | K4: СЗФО
A5: 05.02.03 | B5: Метеорология | C5: частная | G5: Астраханская область | K5: СКФО
A6: 07.02.01 | B6: Архитектура | G6: Белгородская область | K6: СФО
A7: 08.01.01 | B7: Изготовитель арматурных сеток и каркасов | G7: Брянская область | K7: УФО
A8: 08.01.02 | B8: Монтажник трубопроводов | G8: Владимирская область | K8: ЦФО
A9: 08.01.03 | B9: Трубоклад | G9: Волгоградская область | K9: ЮФО
A10: 08.01.04 | B10: Кровельщик | G10: Вологодская область
A11: 08.01.05 | B11: Мастер столярно-плотничных и паркетных работ | G11: Воронежская область
A12: 08.01.06 | B12: Мастер сухого строительства | G12: город Москва
A13: 08.01.07 | B13: Мастер общестроительных работ | G13: город Санкт-Петербург
A14: 08.01.08 | B14: Мастер отделочных строительных работ | G14: город Севастополь
A15: 08.01.09 | B15: Слесарь по строительно-монтажным работам | G15: Еврейская автономная область
A16: 08.01.10 | B16: Мастер жилищно-коммунального хозяйства | G16: Забайкальский край
A17: 08.01.11 | B17: Машинист машин и оборудования в производстве цемента | G17: Ивановская область
A18: 08.01.12 | B18: Оператор технологического оборудования в производстве стеновых и вяжущих материалов | G18: Иркутская область
A19: 08.01.13 | B19: Изготовитель железобетонных изделий | G19: Кабардино-Балкарская республика
A20: 08.01.14 | B20: Монтажник санитарно-технических, вентиляционных систем и оборудования | G20: Калининградская область
A21: 08.01.15 | B21: Слесарь по изготовлению деталей и узлов технических систем в строительстве | G21: Калужская область
... A86: 11.02.15 | B86: Инфокоммуникационные сети и системы связи | G86: Ярославская область
A87: 11.02.16 | B87: Монтаж, техническое обслуживание и ремонт электронных приборов и устройств
A88: 12.01.01 | B88: Наладчик оборудования оптического производства
A89: 12.01.02 | B89: Оптик-механик
A90: 12.01.03 | B90: Сборщик очков
A91: 12.01.04 | B91: Электромеханик по ремонту и обслуживанию наркознодыхательной аппаратуры
A92: 12.01.05 | B92: Электромеханик по ремонту и обслуживанию медицинского оборудования
A93: 12.01.06 | B93: Электромеханик по ремонту и обслуживанию медицинских оптических приборов
A94: 12.01.07 | B94: Электромеханик по ремонту и обслуживанию электронной медицинской аппаратуры
A95: 12.01.08 | B95: Механик протезно-ортопедических изделий
A96: 12.01.09 | B96: Мастер по изготовлению и сборке деталей и узлов оптических и оптико-электронных приборов и систем
A97: 12.02.01 | B97: Авиационные приборы и комплексы
A98: 12.02.02 | B98: Акустические приборы и системы
... A578: 55.02.02 | B578: Анимация (по видам)
